BEGIN:VCALENDAR
VERSION:2.0
PRODID:-//wp-events-plugin.com//7.2.3.1//EN
TZID:Europe/Warsaw
X-WR-TIMEZONE:Europe/Warsaw
BEGIN:VEVENT
UID:46573@night4u.pl
DTSTART;TZID=Europe/Warsaw:20200215T210000
DTEND;TZID=Europe/Warsaw:20200216T040000
DTSTAMP:20200215T095606Z
URL:https://night4u.pl/wydarzenia/%e2%99%9b-mily-pan-%e2%99%9b-mega-koncer
 t-w-prestige-club-miastko-%e2%99%9b-15-02-2020/
SUMMARY:♛ MIŁY PAN ♛ Mega koncert w Prestige Club Miastko ♛ 15/02/20
 20
DESCRIPTION:👉 Czas na kolejny imprezowy wieczór w Waszym ulubionym miej
 scu‼ Walentynki spędzamy podczas mega koncertu‼ Na scenie pojawi się
  Miły Pan\, który podbija listy przebojów swoimi numerami ‼\n \n💓
 💓 Miły Pan to pseudonim artystyczny Piotra Kołaczyńskiego\, wokalist
 y urodzonego w 1996 roku w Warszawie. Przygodę z muzyką rozpoczął w wi
 eku 17 lat\, początkowo tworząc wyłącznie dla siebie i grona najbliżs
 zych znajomych. Przełom nastąpił podczas występu w DISCO STAR\, gdzie 
 po raz pierwszy publicznie zaprezentował swój utwór KRÓLOWA 💓💓\n
 \n🎙🎙 Twórca numerów 🎙🎙\nKrólowa- https://www.youtube.com/wa
 tch?v=ngj0Gi_yy3M\nMałolatki- https://www.youtube.com/watch?v=DLXTEOHvryA
 \nMelanż- https://www.youtube.com/watch?v=-FsJvDtjJIU\n\n📅 Sobota 15.0
 2.2020\n🕘 Start: 21.00\n🎟 Wstęp do 22.00- 20zł/ po 22.00- 25zł
ATTACH;FMTTYPE=image/jpeg:https://night4u.pl/wp-content/uploads/2020/02/15
 2723_image_83940743_599606017489178_2505206801159421952_o.png
CATEGORIES:pomorskie
LOCATION:Prestige Club Miastko\, Armii Krajowej\, Miastko\, 77-200\, Poland
GEO:54.00105;16.97933
X-APPLE-STRUCTURED-LOCATION;VALUE=URI;X-ADDRESS=Armii Krajowej\, Miastko\, 
 77-200\, Poland;X-APPLE-RADIUS=100;X-TITLE=Prestige Club Miastko:geo:54.00
 105,16.97933
END:VEVENT
BEGIN:VTIMEZONE
TZID:Europe/Warsaw
X-LIC-LOCATION:Europe/Warsaw
BEGIN:STANDARD
DTSTART:20191027T020000
TZOFFSETFROM:+0200
TZOFFSETTO:+0100
TZNAME:CET
END:STANDARD
END:VTIMEZONE
END:VCALENDAR