BEGIN:VCALENDAR
VERSION:2.0
PRODID:-//wp-events-plugin.com//7.2.3.1//EN
TZID:Europe/Warsaw
X-WR-TIMEZONE:Europe/Warsaw
BEGIN:VEVENT
UID:46649@night4u.pl
DTSTART;TZID=Europe/Warsaw:20200214T210000
DTEND;TZID=Europe/Warsaw:20200216T050000
DTSTAMP:20200215T110406Z
URL:https://night4u.pl/wydarzenia/%e2%99%ab%e2%99%aa-black-weekend-by-john
 nie-walker-3/
SUMMARY:♫♪ Black Weekend by Johnnie Walker
DESCRIPTION:♫📢 Przed nami kolejny weekend z Johnnie Walkerem! \n\nObie
 cujemy\, że będzie się działo w Parlamencie 14 i 15 lutego 😆 Nie mu
 sicie się obawiać tego\, że zabraknie najlepszej whisky na świecie. Ra
 zem z Johnnie Walker Black Label zadbaliśmy o zapasy na najbliższy piąt
 ek i sobotę. \n\n🎧 Za sterami Parlamentu staną najlepsi DJ w Trójmie
 ście!\n\n#JohnnieWalker #JWBlackLabel #KeepWalking\n#JohnnieHighball #Joh
 nnieFruity #JohnnieLemon\n#JohnnieTonic #JohnnieTropical #JWBlackWeekend\n
 \nDo godziny 24 obowiązuje zasada Lista FB free! Każdy kto dołączy do 
 naszej weekendowej imprezy na Facebooku\, wchodzi za darmo 😁 Bez listy 
 FB wstęp kosztuje 20 zł\, posiadacze naszych kart Parlamentu płacą 10 
 zł. \n\n⚠ Na wejściu obowiązuje selekcja.\n\n☎ W sprawie rezerwacji
  prosimy o kontakt : patrykmizerski.kp@gmail.com 518 203 597
ATTACH;FMTTYPE=image/jpeg:https://night4u.pl/wp-content/uploads/2020/02/15
 3341_image_83916690_10157640177945520_6785525183483478016_o.jpg
CATEGORIES:pomorskie
LOCATION:B90\, Elektryków\, Gdansk\, 80-863\, Poland
GEO:54.36461;18.648686
X-APPLE-STRUCTURED-LOCATION;VALUE=URI;X-ADDRESS=Elektryków\, Gdansk\, 80-8
 63\, Poland;X-APPLE-RADIUS=100;X-TITLE=B90:geo:54.36461,18.648686
END:VEVENT
BEGIN:VTIMEZONE
TZID:Europe/Warsaw
X-LIC-LOCATION:Europe/Warsaw
BEGIN:STANDARD
DTSTART:20191027T020000
TZOFFSETFROM:+0200
TZOFFSETTO:+0100
TZNAME:CET
END:STANDARD
END:VTIMEZONE
END:VCALENDAR