BEGIN:VCALENDAR
VERSION:2.0
PRODID:-//wp-events-plugin.com//7.2.3.1//EN
TZID:Europe/Warsaw
X-WR-TIMEZONE:Europe/Warsaw
BEGIN:VEVENT
UID:32468@night4u.pl
DTSTART;TZID=Europe/Warsaw:20191018T210000
DTEND;TZID=Europe/Warsaw:20191019T050000
DTSTAMP:20191018T110407Z
URL:https://night4u.pl/wydarzenia/%e2%99%ab%e2%99%aa-mash-fun-27/
SUMMARY:♫♪ Mash Fun
DESCRIPTION:W piątek zalecamy obowiązkową wizytę w Klubie Parlament! \n
 Po całym tygodniu pracy nic nie odpręża tak bardzo jak szaleństwo na p
 arkiecie i kurtuazyjna wizyta przy barze 🍻\n\nNasi DJ'e zadbają o nawe
 t najbardziej wybredny gust muzyczny. Naprawdę nieważne czy słuchasz hi
 phopu\, r&amp\;b czy funk... Nawet  zapaleńcy house\, drumnbass i dubstep
  odnajdą się w klimacie. \nJeszcze za mało? Nie zabraknie także najwi
 ększych przebojów z innych\, często trudnych do sklasyfikowania nurtów
  muzycznych 🎶\n\nCzego chcieć więcej od imprezy⁉\n\nDo godziny 24 o
 bowiązuje zasada Lista FB free! Każdy kto dołączy do naszych weekendow
 ych imprez\, ♫♪ Mash Fun i ♫♪ Cu2Night na Facebooku\, wchodzi za d
 armo 😁 Bez listy FB wstęp kosztuje 20 zł\, posiadacze naszych kart Pa
 rlamentu płacą 10 zł. \n\n⚠ Na wejściu obowiązuje selekcja.\n\n☎ 
 W sprawie rezerwacji prosimy o kontakt : patrykmizerski.kp@gmail.com 518 2
 03 597\n\n______________________________________________\n\n♫♪Mash Fun
  is one of a kind party where you have the opportunity to hear the new pie
 ces of the world’s music stage in fresh and original versions. On Friday
  night in Parlament there is no segregation for subcultures or music genre
 s. Everyone and everything unites into a one cohesive whole and compositio
 n.\nThanks to the well-known resident BezKsywy (one of the best Polish Djs
 \, the champion of Polish DJs Ida 2011 and Polish champion of Djs 2012)\, 
 tech and lighting effects and unrestrained fun you are guaranteed an unfor
 gettable night abundant in musical impressions.\nBeside typical genre such
  as: hip-hop\, R&amp\;B\, funk there will also be house\, drum’n’bass 
 and dubstep.\n\n The Facebook List guarantees free entry until midnight! A
 nyone who joins our party on Facebook by clicking "I'm Attending" can come
  in for free.  \nWithout FB list entry will cost 20 PLN. If you have our c
 ard the entrance costs 10 zl.\nThere is selection upon the entrance \nThe 
 Club is opened from 9:00 p.m. till the last guest.\nFor reservation:  patr
 ykmizerski.kp@gmail.com 518 203 597
ATTACH;FMTTYPE=image/jpeg:https://night4u.pl/wp-content/uploads/2019/10/78
 039_image_72385659_10157311919285520_6146764036470996992_n.jpg
CATEGORIES:pomorskie
LOCATION:B90\, Elektryków\, Gdansk\, 80-863\, Poland
GEO:54.36461;18.648686
X-APPLE-STRUCTURED-LOCATION;VALUE=URI;X-ADDRESS=Elektryków\, Gdansk\, 80-8
 63\, Poland;X-APPLE-RADIUS=100;X-TITLE=B90:geo:54.36461,18.648686
END:VEVENT
BEGIN:VTIMEZONE
TZID:Europe/Warsaw
X-LIC-LOCATION:Europe/Warsaw
BEGIN:DAYLIGHT
DTSTART:20190331T030000
TZOFFSETFROM:+0100
TZOFFSETTO:+0200
TZNAME:CEST
END:DAYLIGHT
END:VTIMEZONE
END:VCALENDAR