BEGIN:VCALENDAR
VERSION:2.0
PRODID:-//wp-events-plugin.com//7.2.3.1//EN
TZID:Europe/Warsaw
X-WR-TIMEZONE:Europe/Warsaw
BEGIN:VEVENT
UID:34007@night4u.pl
DTSTART;TZID=Europe/Warsaw:20191102T210000
DTEND;TZID=Europe/Warsaw:20191103T030000
DTSTAMP:20191102T224226Z
URL:https://night4u.pl/wydarzenia/%e2%9c%9e-turbo-halloween-%e2%9c%ae-put-
 in-%e2%9c%ae-gorzelnia-labunie-02-11/
SUMMARY:✞ #turbo Halloween ✮ Put-In ✮ Gorzelnia Łabunie [02/11]
DESCRIPTION:⚠ 02/11 (sobota) - Koncert: PUT-IN ⚠\n\nHalo Gorzelnia❗To
  nie koniec wrażeń na ten tydzień 😏 Powraca #InwazjaMocy 😯 Zapnij
 cie pasy i zbierajcie moc na najgrubsze #HALLOWEEN w tej części kraju 
 ☠ Ta impreza wymknie się spod kontroli 🤯\n\nDrodzy klubowicze! 📢\
 nNajbliższa sobota  z pewnością będzie wyjątkowa 😍\nUsłyszycie na
  żywo takie hity jak:\n-Piosenka o białym misiu\n-Ramię w ramię jak sp
 artanie\n-Cukier drożdże destylacja\n\nDJ'S\n✅Sala Disco/Dance ➡ FRE
 SH / ADAMS\n✅Sala Klubowa ➡ SWEETU / FRESH\n\nPonadto obserwujcie nasz
  profil\, bo już na dniach będzie do wygrania 🌟 PAKIET IMPREZOWICZA 
 🌟\n\n⏰START - 21:00\n___________________\nPROMOCJE:\n🎂Odprawimy Tw
 oje urodziny!\nA także zorganizujemy:\n💃Wieczór Panieński\n🕺Wiecz
 ór Kawalerski\nRezerwacje VIP ROOM od poniedziałku do piątku 🤗\n📲
 883415475\n\nZapraszamy! 💛
ATTACH;FMTTYPE=image/jpeg:https://night4u.pl/wp-content/uploads/2019/10/86
 833_image_72954237_2434142710015483_6132737901642907648_n.jpg
CATEGORIES:lubelskie
END:VEVENT
BEGIN:VTIMEZONE
TZID:Europe/Warsaw
X-LIC-LOCATION:Europe/Warsaw
BEGIN:STANDARD
DTSTART:20191027T020000
TZOFFSETFROM:+0200
TZOFFSETTO:+0100
TZNAME:CET
END:STANDARD
END:VTIMEZONE
END:VCALENDAR