BEGIN:VCALENDAR
VERSION:2.0
PRODID:-//wp-events-plugin.com//7.2.3.1//EN
TZID:Europe/Warsaw
X-WR-TIMEZONE:Europe/Warsaw
BEGIN:VEVENT
UID:5967@night4u.pl
DTSTART;TZID=Europe/Warsaw:20190209T220000
DTEND;TZID=Europe/Warsaw:20190210T050000
DTSTAMP:20190131T221040Z
URL:https://night4u.pl/wydarzenia/%e2%9c%a6%e2%9c%a6-elegant-night-%e2%9c%
 a6-09-02-sobota-%e2%9c%a6-lipowa-19-21-%e2%9c%a6-szpilki-%e2%9c%a6%e2%9c%a
 6/
SUMMARY:✦✦ Elegant Night ✦ 09.02 Sobota ✦ Lipowa 19/21 ✦ Szpilki 
 ✦✦
DESCRIPTION:◄ ◄ Elegant Night ►►\n\n#PoznajmySiewWoW!\n\n◄◄ Bia
 łystok ►►\n\nKażdy dobrze wie\, że nasz klub to nie hala sportowa i
  spotkać można u nas piękne panie w sukienkach jak i przystojnych panó
 w w eleganckich koszulach! Tej nocy nic się nie zmieni i bawimy się przy
  najlepszej muzyce w najlepszym lokalu! Standardowo jak co sobotę - szpil
 ki free do 23:00! ?\n\n\n\nPrzypominamy o selekcji - elegant/no sport! \n\
 n►Miejsce: NOWE WoW Club ul. Lipowa 19/21 ?\n\n►Data: 9.02.19 ?\n\n►
 Start: 22:00 ✌\n\n►Dresscode: elegant/no-sport. ??\n\n►Szpilki FREE 
 do 23:00! ?\n\n______________________________________________________\n\n\
 nMiejsce w\, którym odbędzie się impreza to nowo otwarty klub WoW przy 
 ul. Lipowej 19/21\, w lokalu starych Prognoz. Przeszedł on całkowitą re
 nowacje z zastosowaniem najnowszych technologii scenicznych jak i klubowyc
 h. Jest to obecnie klub z największym parkietem w całym mieście. O opra
 wę muzyczną zadbają nasi wszystkim dobrze znani rezydenci\, więc zabaw
 a gwarantowana do białego rana! ?\n\n____________________________________
 __________________\n\n\nSelekcjoner będzie dbał o to\, aby do klubu wcho
 dziły jedynie osoby oczekujące dobrej zabawy\, agresywnym osobom szukaj
 ącym zaczepki podziękujemy! Wchodząc do klubu automatycznie zgadzasz si
 ę na regulamin imprezy (między innymi na zdjęcia robione przed fotograf
 a i upubliczniane ich).\n\n\n_____________________________________________
 _________\n\n►Rezerwacje: +48 668 449 064 ?\n\n►Numer dostępny w godz
 inach 10:00-23:00
ATTACH;FMTTYPE=image/jpeg:https://night4u.pl/wp-content/uploads/2019/01/17
 943_image_50995076_1870393146421211_9185872930796470272_o.jpg
CATEGORIES:podlaskie
LOCATION:WoW  Club\, Lipowa 19/21\, Białystok\, 15-432\, Poland
GEO:53.13269;23.16039
X-APPLE-STRUCTURED-LOCATION;VALUE=URI;X-ADDRESS=Lipowa 19/21\, Białystok\,
  15-432\, Poland;X-APPLE-RADIUS=100;X-TITLE=WoW  Club:geo:53.13269,23.1603
 9
END:VEVENT
BEGIN:VTIMEZONE
TZID:Europe/Warsaw
X-LIC-LOCATION:Europe/Warsaw
BEGIN:STANDARD
DTSTART:20181028T020000
TZOFFSETFROM:+0200
TZOFFSETTO:+0100
TZNAME:CET
END:STANDARD
END:VTIMEZONE
END:VCALENDAR