BEGIN:VCALENDAR
VERSION:2.0
PRODID:-//wp-events-plugin.com//7.2.3.1//EN
TZID:Europe/Warsaw
X-WR-TIMEZONE:Europe/Warsaw
BEGIN:VEVENT
UID:51812@night4u.pl
DTSTART;TZID=Europe/Warsaw:20241231T170000
DTEND;TZID=Europe/Warsaw:20250101T070000
DTSTAMP:20241226T205645Z
URL:https://night4u.pl/wydarzenia/%e2%9c%a8sylwester-w-el-mariachi-tequila
 -bar-club%e2%9c%a8/
SUMMARY:✨SYLWESTER W EL MARIACHI TEQUILA BAR & CLUB✨
DESCRIPTION:Nochevieja 🥂🍾\nStare odchodzi\, nowe przychodzi🥳🥳\n
 \nDołącz do nas i baw się z nami do białego rana!\nNajwiększy Tequila
  Bar w Polsce zaprasza\nna niezapomnianą Noc Sylwestrową!\nNajwiększe p
 rzeboje lat '80 i '90 oraz najnowszych hitów\nw specjalnych LATINO aranż
 acjach!\n\nZagra dla Was: @Dj BanDit\n\nWSTĘP:\n◾ DO 23:00 - BEZPŁATNY
 \n◾ PO 23:00 - 30PLN/OS.\n◾ Dla osób z rezerwacją bezpłatny przez c
 ałą noc\n\nREZERWACJA STOLIKÓW: 185PLN / os.\n◾ w tym: 100PLN do wyko
 rzystania w barze\n◾ dla każdego z gości kieliszek PROSECCO 🥂\n◾ 
 napoje gorące bez ograniczeń ☕☕\n\nDo stolików od 5 osób doliczany
  jest serwis dla obsługi 10%\n\n◾ TEL: 516 706 198\n◾ elmariachi.kont
 akt@gmail.com\n\nOFERTY SPECJALNE I DLA GRUP:\n◾ elmariachi.kontakt@gmai
 l.com\n\nLICZBA MIEJSC OGRANICZONA!!!\n\n\n📆 31.12.2024 od 17.00 - do r
 ana🥳\n🎧 Dj BanDit zaczyna o 20.00\n📍EL MARIACHI TEQUILA BAR &amp\
 ; CLUB GDAŃSK GRODZKA 16\n📌#elmariachigdansk\n\n\nDRESS CODE: FORMAL -
  SEMI FORMAL\n\n\n\nWstęp tylko dla osób pełnoletnich.\nSELEKCJA - Orga
 nizator może odmówić wstępu na imprezę\nFOTORELACJA - biorąc udział
  w wydarzeniu wyrażasz zgodę na publikację fotorelacji z imprezy oraz a
 kceptujesz regulamin klubu.\n\n#elmariachigdansk #imprezasylwestrowa #sylw
 estergdansk
ATTACH;FMTTYPE=image/jpeg:https://night4u.pl/wp-content/uploads/2024/12/
 SYLWESTER-W-EL-MARIACHI-TEQUILA-BAR-CLUB✨.jpg
CATEGORIES:pomorskie
LOCATION:Grodzka 16\, 80-841 Gdansk\, Poland\, Grodzka 16\, 80-841 Gdansk\,
  Poland\, 
X-APPLE-STRUCTURED-LOCATION;VALUE=URI;X-ADDRESS=Grodzka 16\, 80-841 Gdansk\
 , Poland\, ;X-APPLE-RADIUS=100;X-TITLE=Grodzka 16\, 80-841 Gdansk\, Poland
 :geo:0,0
END:VEVENT
BEGIN:VTIMEZONE
TZID:Europe/Warsaw
X-LIC-LOCATION:Europe/Warsaw
BEGIN:STANDARD
DTSTART:20241027T020000
TZOFFSETFROM:+0200
TZOFFSETTO:+0100
TZNAME:CET
END:STANDARD
END:VTIMEZONE
END:VCALENDAR