BEGIN:VCALENDAR
VERSION:2.0
PRODID:-//wp-events-plugin.com//7.2.3.1//EN
TZID:Europe/Warsaw
X-WR-TIMEZONE:Europe/Warsaw
BEGIN:VEVENT
UID:33767@night4u.pl
DTSTART;TZID=Europe/Warsaw:20191031T203000
DTEND;TZID=Europe/Warsaw:20191101T020000
DTSTAMP:20191031T010637Z
URL:https://night4u.pl/wydarzenia/%e2%9c%aa-bella-ciao-live-%e2%9c%aa-hall
 oween-%e2%9c%aa-31-10-czwartek-piatek-wolny-%e2%9c%aa/
SUMMARY:✪ Bella Ciao Live ✪ Halloween ✪ 31.10 Czwartek - Piątek woln
 y! ✪
DESCRIPTION:✪ BELLA CIAO LIVE- PO RAZ PIERWSZY W IGLOO! ✪\nGwiazdy hisz
 pańskiego serialu DOM Z PAPIERU \nprzejmują nasz klub! Będzie masa atra
 kcji oraz gadżetów! \n31.10 czwartek - piątek dzień wolny! \nbilety w 
 cenie 10 oraz 15 pln!
ATTACH;FMTTYPE=image/jpeg:https://night4u.pl/wp-content/uploads/2019/10/85
 400_image_73342902_1373610099480703_938784313653067776_o.jpg
CATEGORIES:podkarpackie
LOCATION:IGLOO Club\, zalew Czyste\, Grodzisko Dolne\, 37-306\, Poland
GEO:50.148416;22.480624
X-APPLE-STRUCTURED-LOCATION;VALUE=URI;X-ADDRESS=zalew Czyste\, Grodzisko Do
 lne\, 37-306\, Poland;X-APPLE-RADIUS=100;X-TITLE=IGLOO Club:geo:50.148416,
 22.480624
END:VEVENT
BEGIN:VTIMEZONE
TZID:Europe/Warsaw
X-LIC-LOCATION:Europe/Warsaw
BEGIN:STANDARD
DTSTART:20191027T020000
TZOFFSETFROM:+0200
TZOFFSETTO:+0100
TZNAME:CET
END:STANDARD
END:VTIMEZONE
END:VCALENDAR