BEGIN:VCALENDAR
VERSION:2.0
PRODID:-//wp-events-plugin.com//7.2.3.1//EN
TZID:Europe/Warsaw
X-WR-TIMEZONE:Europe/Warsaw
BEGIN:VEVENT
UID:32208@night4u.pl
DTSTART;TZID=Europe/Warsaw:20191018T203000
DTEND;TZID=Europe/Warsaw:20191019T020000
DTSTAMP:20191018T010551Z
URL:https://night4u.pl/wydarzenia/%e2%9c%aa-mily-pan-na-zywo-%e2%9c%aa-18-
 10-piatek-%e2%9c%aa-igloo-club-%e2%9c%aa/
SUMMARY:✪ Miły Pan na żywo! ✪ 18.10 Piątek ✪ Igloo Club ✪
DESCRIPTION:✪ MIŁY PAN na żywo w Igloo! ✪\n✪ MIŁY PAN na żywo w I
 gloo! ✪\n✪ MIŁY PAN na żywo w Igloo! ✪\n\nBILETY 20 PLN
ATTACH;FMTTYPE=image/jpeg:https://night4u.pl/wp-content/uploads/2019/10/76
 870_image_72042303_1363484410493272_8712932783091089408_o.jpg
CATEGORIES:podkarpackie
LOCATION:IGLOO Club\, zalew Czyste\, Grodzisko Dolne\, 37-306\, Poland
GEO:50.148416;22.480624
X-APPLE-STRUCTURED-LOCATION;VALUE=URI;X-ADDRESS=zalew Czyste\, Grodzisko Do
 lne\, 37-306\, Poland;X-APPLE-RADIUS=100;X-TITLE=IGLOO Club:geo:50.148416,
 22.480624
END:VEVENT
BEGIN:VTIMEZONE
TZID:Europe/Warsaw
X-LIC-LOCATION:Europe/Warsaw
BEGIN:DAYLIGHT
DTSTART:20190331T030000
TZOFFSETFROM:+0100
TZOFFSETTO:+0200
TZNAME:CEST
END:DAYLIGHT
END:VTIMEZONE
END:VCALENDAR