BEGIN:VCALENDAR
VERSION:2.0
PRODID:-//wp-events-plugin.com//7.2.3.1//EN
TZID:Europe/Warsaw
X-WR-TIMEZONE:Europe/Warsaw
BEGIN:VEVENT
UID:34148@night4u.pl
DTSTART;TZID=Europe/Warsaw:20191102T210000
DTEND;TZID=Europe/Warsaw:20191103T040000
DTSTAMP:20191102T092605Z
URL:https://night4u.pl/wydarzenia/%e2%9c%abhalloween-after-party%e2%9c%ab-
 z-bueno-clinic-%e2%99%ab/
SUMMARY:✫Halloween After Party✫ z Bueno Clinic ♫
DESCRIPTION:W sobotę 2 listopada  ✫Halloween After Party✫ z Bueno Clin
 ic ♫ 💀Specjalny wystrój Chicago Club  👻 2 Parkiety #CLUB &amp\; #
 DANCE 🎧W konsoletach: 💿 Czapsky 📀 Mario 📀 Bueno Clinic💿 \n
 ⌚️ Strasznie zapraszamy od 21:00🏴‍☠️
ATTACH;FMTTYPE=image/jpeg:https://night4u.pl/wp-content/uploads/2019/10/87
 434_image_74379524_2655893627764982_1272689218866380800_o.png
CATEGORIES:łódzkie
LOCATION:Chicago Club\, Broszki 34\, Złoczew\, 98-270\, Poland
GEO:51.383918;18.646609
X-APPLE-STRUCTURED-LOCATION;VALUE=URI;X-ADDRESS=Broszki 34\, Złoczew\, 98-
 270\, Poland;X-APPLE-RADIUS=100;X-TITLE=Chicago Club:geo:51.383918,18.6466
 09
END:VEVENT
BEGIN:VTIMEZONE
TZID:Europe/Warsaw
X-LIC-LOCATION:Europe/Warsaw
BEGIN:STANDARD
DTSTART:20191027T020000
TZOFFSETFROM:+0200
TZOFFSETTO:+0100
TZNAME:CET
END:STANDARD
END:VTIMEZONE
END:VCALENDAR