BEGIN:VCALENDAR
VERSION:2.0
PRODID:-//wp-events-plugin.com//7.2.3.1//EN
TZID:Europe/Warsaw
X-WR-TIMEZONE:Europe/Warsaw
BEGIN:VEVENT
UID:14566@night4u.pl
DTSTART;TZID=Europe/Warsaw:20190503T220000
DTEND;TZID=Europe/Warsaw:20190504T040000
DTSTAMP:20190430T145809Z
URL:https://night4u.pl/wydarzenia/%e2%9c%ae-after-party-dni-ksiestwa-brzes
 kiego-2019%e2%9c%ae-03-05-19/
SUMMARY:✮ After Party-Dni Księstwa Brzeskiego 2019✮ 03.05.19
DESCRIPTION:To będzie wyjątkowa noc! \nBUBI\, Dj Dayveed\, Dj Fudzis\, DJ
  Peju\nRezerwacje pod numerem telefonu:\n533 261 111\n\nSTREFA MUZYKI\nul.
 Wrocławska 5\n49-300 Brzeg \n\nOtwarcie klubu 22:00\nWstęp do 3:00
ATTACH;FMTTYPE=image/jpeg:https://night4u.pl/wp-content/uploads/2019/04/36
 220_image_58461405_2405361922885769_2478251672309071872_o.jpg
CATEGORIES:opolskie
LOCATION:Strefa Muzyki\, Wrocławska 5\, Brzeg\, 49-300\, Poland
GEO:50.86316;17.464734
X-APPLE-STRUCTURED-LOCATION;VALUE=URI;X-ADDRESS=Wrocławska 5\, Brzeg\, 49-
 300\, Poland;X-APPLE-RADIUS=100;X-TITLE=Strefa Muzyki:geo:50.86316,17.4647
 34
END:VEVENT
BEGIN:VTIMEZONE
TZID:Europe/Warsaw
X-LIC-LOCATION:Europe/Warsaw
BEGIN:DAYLIGHT
DTSTART:20190331T030000
TZOFFSETFROM:+0100
TZOFFSETTO:+0200
TZNAME:CEST
END:DAYLIGHT
END:VTIMEZONE
END:VCALENDAR