BEGIN:VCALENDAR
VERSION:2.0
PRODID:-//wp-events-plugin.com//7.2.3.1//EN
TZID:Europe/Warsaw
X-WR-TIMEZONE:Europe/Warsaw
BEGIN:VEVENT
UID:33005@night4u.pl
DTSTART;TZID=Europe/Warsaw:20191026T220000
DTEND;TZID=Europe/Warsaw:20191027T050000
DTSTAMP:20250901T211039Z
URL:https://night4u.pl/wydarzenia/%e2%9c%aetrick-or-treat%e2%9c%ae-26-10-1
 9/
SUMMARY:✮Trick or Treat✮//26/10/19
DESCRIPTION:STREFA MUZYKI\nul.Wrocławska 5\n49-300 Brzeg \n\nOtwarcie klub
 u 22:00\nWstęp do 3:00
ATTACH;FMTTYPE=image/jpeg:https://night4u.pl/wp-content/uploads/2019/10/81
 176_image_73395318_2720976507990974_2713676765586259968_o.jpg
CATEGORIES:opolskie
LOCATION:Strefa Muzyki\, Wrocławska 5\, Brzeg\, 49-300\, Poland
GEO:50.86316;17.464734
X-APPLE-STRUCTURED-LOCATION;VALUE=URI;X-ADDRESS=Wrocławska 5\, Brzeg\, 49-
 300\, Poland;X-APPLE-RADIUS=100;X-TITLE=Strefa Muzyki:geo:50.86316,17.4647
 34
END:VEVENT
BEGIN:VTIMEZONE
TZID:Europe/Warsaw
X-LIC-LOCATION:Europe/Warsaw
BEGIN:DAYLIGHT
DTSTART:20190331T030000
TZOFFSETFROM:+0100
TZOFFSETTO:+0200
TZNAME:CEST
END:DAYLIGHT
BEGIN:STANDARD
DTSTART:20191027T020000
TZOFFSETFROM:+0200
TZOFFSETTO:+0100
TZNAME:CET
END:STANDARD
END:VTIMEZONE
END:VCALENDAR