BEGIN:VCALENDAR
VERSION:2.0
PRODID:-//wp-events-plugin.com//7.2.3.1//EN
TZID:Europe/Warsaw
X-WR-TIMEZONE:Europe/Warsaw
BEGIN:VEVENT
UID:39316@night4u.pl
DTSTART;TZID=Europe/Warsaw:20191225T200000
DTEND;TZID=Europe/Warsaw:20191226T040000
DTSTAMP:20191225T224328Z
URL:https://night4u.pl/wydarzenia/%e2%9c%af-christmas-party-%e2%9c%af-dj-l
 ogan-%e2%9c%af/
SUMMARY:✯ Christmas Party ✯ Dj Logan ✯
DESCRIPTION:Największa impreza pierwszego dnia świąt w Chełmie!\nJuż 2
 5 grudnia spotkajmy się wszyscy w klubie\, by wspólnie bawić się do bi
 ałego rana! 💣\nTej nocy spodziewajcie się wyjątkowej atmosfery oraz 
 najlepszej muzyki!\nMagiczne święta w Ground Club poprowadzi  Dj Logan!\
 n\nCzy jesteście gotowi na świąteczne szaleństwo? 💃🎉⛄\n\n✖ S
 TART: 20:00 ✖\n🎄 Bilety: 20zł\n🎄 Wiek: 21+\n🎄 Dress: smart cas
 ual (luźno\, ale z klasą 👔)\n\nDJ's:\n🎅 Dj Logan \nRezerwacje miej
 sc:\n☎ 668152208
ATTACH;FMTTYPE=image/jpeg:https://night4u.pl/wp-content/uploads/2019/12/11
 5275_image_79807438_2600424860023218_6204481542161432576_n.jpg
CATEGORIES:lubelskie
LOCATION:Ground Club\, Pl Łuczkowskiego 11\, Chełm\, 22-100\, Poland
GEO:51.13286;23.47388
X-APPLE-STRUCTURED-LOCATION;VALUE=URI;X-ADDRESS=Pl Łuczkowskiego 11\, Che
 łm\, 22-100\, Poland;X-APPLE-RADIUS=100;X-TITLE=Ground Club:geo:51.13286,
 23.47388
END:VEVENT
BEGIN:VTIMEZONE
TZID:Europe/Warsaw
X-LIC-LOCATION:Europe/Warsaw
BEGIN:STANDARD
DTSTART:20191027T020000
TZOFFSETFROM:+0200
TZOFFSETTO:+0100
TZNAME:CET
END:STANDARD
END:VTIMEZONE
END:VCALENDAR