BEGIN:VCALENDAR
VERSION:2.0
PRODID:-//wp-events-plugin.com//7.2.3.1//EN
TZID:Europe/Warsaw
X-WR-TIMEZONE:Europe/Warsaw
BEGIN:VEVENT
UID:18968@night4u.pl
DTSTART;TZID=Europe/Warsaw:20190614T220000
DTEND;TZID=Europe/Warsaw:20190615T040000
DTSTAMP:20190611T180512Z
URL:https://night4u.pl/wydarzenia/%e2%9c%af14-06%e2%9c%afcrazy-friday%e2%9
 c%afdj-tweek%e2%9c%af/
SUMMARY:✯14.06✯crazy friday✯Dj TweeK✯
DESCRIPTION:Szalone imprezy to nasza specjalność! W piątek w Groundzie b
 awimy się przy hitach wyselekcjonowanych przez Dj TweeK'a!  Gorąco zapra
 szamy!\n\nBefore Party na naszym ogródku piwnym już od 20:00 jak zawsze 
 możecie się tam spodziewać zimnych orzeźwiających napoi\, wspaniałeg
 o towarzystwa oraz bezpłatnych wejściówek na imprezę.\n\n✯ Start: 22
 :00\n✯ Before party na ogródku od 20:00\n✯ Lista Facebook wejście FR
 EE do 23:00!\n✯ DJ TweeK\n✯ Bilety : 10 PLN\n✯ Wstęp: 18 + \n✯Dre
 ss: smart casual (luźno\, ale z klasą ?)\n\nRezerwacje miejsc:\n☎ 82 5
 42 15 28
ATTACH;FMTTYPE=image/jpeg:https://night4u.pl/wp-content/uploads/2019/06/45
 877_image_62121776_2227017140697327_5781843183843409920_o.jpg
CATEGORIES:lubelskie
LOCATION:Ground Club\, Pl Łuczkowskiego 11\, Chełm\, 22-100\, Poland
GEO:51.13286;23.47388
X-APPLE-STRUCTURED-LOCATION;VALUE=URI;X-ADDRESS=Pl Łuczkowskiego 11\, Che
 łm\, 22-100\, Poland;X-APPLE-RADIUS=100;X-TITLE=Ground Club:geo:51.13286,
 23.47388
END:VEVENT
BEGIN:VTIMEZONE
TZID:Europe/Warsaw
X-LIC-LOCATION:Europe/Warsaw
BEGIN:DAYLIGHT
DTSTART:20190331T030000
TZOFFSETFROM:+0100
TZOFFSETTO:+0200
TZNAME:CEST
END:DAYLIGHT
END:VTIMEZONE
END:VCALENDAR