BEGIN:VCALENDAR
VERSION:2.0
PRODID:-//wp-events-plugin.com//7.2.3.1//EN
TZID:Europe/Warsaw
X-WR-TIMEZONE:Europe/Warsaw
BEGIN:VEVENT
UID:47129@night4u.pl
DTSTART;TZID=Europe/Warsaw:20200228T210000
DTEND;TZID=Europe/Warsaw:20200229T040000
DTSTAMP:20200229T001442Z
URL:https://night4u.pl/wydarzenia/%e2%9c%b8%e2%9c%b8-dj-hazel-28-02-piatek
 -%e2%9c%b8%e2%9c%b8/
SUMMARY:✸✸ Dj Hazel / 28.02 Piątek ✸✸
DESCRIPTION:Szykujemy się na Hazelowy rozpier...!\nPrzy jego muzyce nie da
  się ustać spokojnie\, a zabawa na długo pozostaje w pamięci. Gustuje 
 głównie w klimatach House\, Elektro house\, Progresive house\, Trance\, 
 Hard trance\, Hardstyle\, Techno. Jego możliwości techniczne nie znają 
 granic (dj-je nazywają go „Najszybsze Ręce Europy”). \nA kto jeszcze
  go nie zna?\nTo "weź pigułkę" !
ATTACH;FMTTYPE=image/jpeg:https://night4u.pl/wp-content/uploads/2020/02/15
 7032_image_84353494_1843122799146070_1276470447944237056_o.jpg
CATEGORIES:warmińsko-mazurskie
LOCATION:YOLO CLUB - You Only Live Once\, Odziezowa 12\, Elblag\, 82300\, P
 oland
GEO:54.16452;19.40054
X-APPLE-STRUCTURED-LOCATION;VALUE=URI;X-ADDRESS=Odziezowa 12\, Elblag\, 823
 00\, Poland;X-APPLE-RADIUS=100;X-TITLE=YOLO CLUB - You Only Live Once:geo:
 54.16452,19.40054
END:VEVENT
BEGIN:VTIMEZONE
TZID:Europe/Warsaw
X-LIC-LOCATION:Europe/Warsaw
BEGIN:STANDARD
DTSTART:20191027T020000
TZOFFSETFROM:+0200
TZOFFSETTO:+0100
TZNAME:CET
END:STANDARD
END:VTIMEZONE
END:VCALENDAR