BEGIN:VCALENDAR
VERSION:2.0
PRODID:-//wp-events-plugin.com//7.2.3.1//EN
TZID:Europe/Warsaw
X-WR-TIMEZONE:Europe/Warsaw
BEGIN:VEVENT
UID:39856@night4u.pl
DTSTART;TZID=Europe/Warsaw:20191226T190000
DTEND;TZID=Europe/Warsaw:20191227T030000
DTSTAMP:20191226T074333Z
URL:https://night4u.pl/wydarzenia/%e2%9d%86-x-mas-party-%e2%98%85-qbik-%e2
 %98%85-i-i-ii-dzien-swiat-klub-lwowski/
SUMMARY:❆ X-MAS Party ★ QBIK ★ I i II Dzień Świąt | Klub Lwowski
DESCRIPTION:⛔ŚWIĄTECZNY #MELANŻ W LWOWSKIM!⛔\n\nZapowiadamy DWA dni 
 mega grubego baletu\, a w roli głównej oczywiście Wy\, czyli nasza #LWO
 WSKA rodzina! ❤\n\n⚠25/12 (środa):\n🌲🎁X-MAS PARTY - I DZIEŃ Ś
 WIĄT🎁🌲 \nTej nocy obchodzimy wigilię na klubowo! 😎\n\n🔊OBSAD
 A DJ'S:\n⭐SWEETU / TIGER⭐\n_________________________\n\n⚠26/12 (czwa
 rtek)\nKoncert: ⭐QBIK⭐ - 🎄II DZIEŃ ŚWIĄT🎄\n🎤Twórca takich
  hitów jak:\n-Taka Dama\n-Hajs\n-4 pory roku\n\n🔊OBSADA DJ'S:\n⭐SWEE
 TU / TIGER⭐\n_________________________\n\nℹPonadto obserwujcie nasz pr
 ofil\, bo już na dniach będzie do wygrania \n🆓ZESTAW STARTOWY🆓\n\n
 🕖START: 19:00\n\nPAMIĘTAJ!🤩 Tańcz byle jak\, ale nie byle GDZIE❗
 \nTylko w 👉KLUB LWOWSKI👈\n\nZapraszamy! 💖
ATTACH;FMTTYPE=image/jpeg:https://night4u.pl/wp-content/uploads/2019/12/11
 9558_image_78057944_2361019864002052_8816260350384013312_o-3.jpg
CATEGORIES:lubelskie
LOCATION:Klub Lwowski\, Ul. Lwowska 126\, Tomaszów Lubelski\, 22-600\, Pol
 and
GEO:50.436153;23.420001
X-APPLE-STRUCTURED-LOCATION;VALUE=URI;X-ADDRESS=Ul. Lwowska 126\, Tomaszów
  Lubelski\, 22-600\, Poland;X-APPLE-RADIUS=100;X-TITLE=Klub Lwowski:geo:50
 .436153,23.420001
END:VEVENT
BEGIN:VTIMEZONE
TZID:Europe/Warsaw
X-LIC-LOCATION:Europe/Warsaw
BEGIN:STANDARD
DTSTART:20191027T020000
TZOFFSETFROM:+0200
TZOFFSETTO:+0100
TZNAME:CET
END:STANDARD
END:VTIMEZONE
END:VCALENDAR