BEGIN:VCALENDAR
VERSION:2.0
PRODID:-//wp-events-plugin.com//7.2.3.1//EN
TZID:Europe/Warsaw
X-WR-TIMEZONE:Europe/Warsaw
BEGIN:VEVENT
UID:40938@night4u.pl
DTSTART;TZID=Europe/Warsaw:20191228T220000
DTEND;TZID=Europe/Warsaw:20191229T060000
DTSTAMP:20191227T215217Z
URL:https://night4u.pl/wydarzenia/%f0%9d%90%86%f0%9d%90%91%f0%9d%90%94%f0%
 9d%90%81%f0%9d%90%84-%f0%9d%90%91%f0%9d%90%98%f0%9d%90%81%f0%9d%90%98-sobo
 ta-cooltura-chmielna-101-3/
SUMMARY:𝐆𝐑𝐔𝐁𝐄 𝐑𝐘𝐁𝐘 / Sobota / Cooltura Chmielna 
 101
DESCRIPTION:𝐆𝐑𝐔𝐁𝐄 𝐑𝐘𝐁𝐘 / 𝐆𝐑𝐔𝐁𝐄 
 𝐑𝐘𝐁𝐘 / 𝐆𝐑𝐔𝐁𝐄 𝐑𝐘𝐁𝐘\n\n📆 SOBOTA II
  28.12.2019\n🕺🏼 ATEMI x ZURT\n🎧 HITS ALL NIGHT\n\nPo wielu latach
  wspólnej przyjaźni postanowili połączyć siły. Kolaboracja roku\, kt
 óra nie śniła się najstarszym góralom. Przygotujcie się na fajerwerk
 i\, zwroty akcji oraz balet do białego rana. Zapowiada się impreza gruba
  jak z Jastarni do Krakowa!\n\n💥 Hennessy Hero 25 PLN 💥\n\n⎺⎺⎺
 ⎺⎺⎺⎺⎺⎺⎺⎺⎺⎺⎺⎺⎺⎺⎺⎺⎺⎺⎺⎺⎺⎺⎺⎺
 ⎺⎺⎺⎺⎺⎺⎺⎺\n‣ WSTĘP TYLKO DLA OSÓB PEŁNOLETNICH.\n‣ S
 ELEKCJA - ORGANIZATOR MOŻE ODMÓWIĆ WEJŚCIA DO KLUBU.
ATTACH;FMTTYPE=image/jpeg:https://night4u.pl/wp-content/uploads/2019/12/12
 6936_image_81025911_1476711615840483_5374752907784617984_o.jpg
CATEGORIES:pomorskie
LOCATION:Cooltura Chmielna 101\, Chmielna 101\, Gdansk\, 80-748\, Poland
GEO:54.34722;18.65729
X-APPLE-STRUCTURED-LOCATION;VALUE=URI;X-ADDRESS=Chmielna 101\, Gdansk\, 80-
 748\, Poland;X-APPLE-RADIUS=100;X-TITLE=Cooltura Chmielna 101:geo:54.34722
 ,18.65729
END:VEVENT
BEGIN:VTIMEZONE
TZID:Europe/Warsaw
X-LIC-LOCATION:Europe/Warsaw
BEGIN:STANDARD
DTSTART:20191027T020000
TZOFFSETFROM:+0200
TZOFFSETTO:+0100
TZNAME:CET
END:STANDARD
END:VTIMEZONE
END:VCALENDAR