BEGIN:VCALENDAR
VERSION:2.0
PRODID:-//wp-events-plugin.com//7.2.3.1//EN
TZID:Europe/Warsaw
X-WR-TIMEZONE:Europe/Warsaw
BEGIN:VEVENT
UID:51824@night4u.pl
DTSTART;TZID=Europe/Warsaw:20250106T200000
DTEND;TZID=Europe/Warsaw:20250106T234500
DTSTAMP:20250103T210217Z
URL:https://night4u.pl/wydarzenia/%f0%9d%96%b1%f0%9d%96%a8%f0%9d%96%b3%f0%
 9d%96%ac%f0%9d%96%ae%f0%9d%96%b2-%f0%9d%96%a3%f0%9d%96%a4%f0%9d%96%ab-%f0%
 9d%96%ab%f0%9d%96%b4%f0%9d%96%ad%f0%9d%96%a4%f0%9d%96%b2-%f0%9f%a4%8e-teat
 ro-cubano-2/
SUMMARY:𝖱𝖨𝖳𝖬𝖮𝖲 𝖣𝖤𝖫 𝖫𝖴𝖭𝖤𝖲 🤎 | T
 eatro Cubano • Every Monday • 8PM
DESCRIPTION:🤎𝖱𝖨𝖳𝖬𝖮𝖲 𝖣𝖤𝖫 𝖫𝖴𝖭𝖤𝖲 
 at Teatro Cubano! 🤎\n\nDo you want to stay updated?\n𝗜𝗚: @𝘁
 𝗲𝗮𝘁𝗿𝗼𝗰𝘂𝗯𝗮𝗻𝗼\n\n☀️POCZUJ RYTM!\n﹍ⲯ
 ﹍ⲯ﹍︿﹍ 🎇\n\nPodczas imprezy zagrają DJ-e specjalizujący się
  w latynoamerykańskich rytmach. W repertuarze znajdą się:\n• Reggaeto
 n clásico\n• Funky\n• Dembow\n• Trap\n❤️\n\n𝗚𝗼𝗱𝘇
 𝗶𝗻𝘆 𝗼𝘁𝘄𝗮𝗿𝗰𝗶𝗮:\n✌️Papito's - 18:00\n
 ✌️Teatro Cubano - 20:00\n\nHAPPY HOUR 𝗣𝗥𝗢𝗠𝗢:\n18:00-22:
 00\nCuba Libre- 6zł\nŻywiec 0.5- 6zł\n❤\n____________________________
 ___________________________\nZapraszamy! Teatro Cubano Kraków Jagiellońs
 ka 10\n_______________________________________________________\n~ Wejście
  do klubu od 18 roku życia\n~ W sprawie rezerwacji prosimy o wiadomość 
 prywatną (szczegółowe info w zakładce informacje)\n~ Teatro Cubano otw
 arte jest 7 dni w tygodniu od 20:00\, Papito's od 18:00\n~ Wejście do klu
 bu jest bezpłatne (możliwy zakup biletu za 20zł i wejście poza kolejk
 ą)\n~ Przez całą noc możecie zamawiać jedzenie z Papito’s (środa-s
 obota)\n~ Dostępna szatnia\n~DRESS CODE: smart casual\n__________________
 ____________________________________\nWe invite you! Teatro Cubano Krakow 
 Jagiellońska 10 [ENG]\n__________________________________________________
 _____\n~ Entry to the club from the age of 18\n~ For reservations\, please
  send a private message (detailed info in the information tab)\n~ Teatro C
 ubano is open 7 days a week from 8 p.m.\, Papito's from 6 p.m.\n~ Entry to
  the club is free (possible purchase of a ticket for PLN 20 and entry with
 out the queue)\n~ You can order food from Papito's all night long (Wed-Sat
 )\n~Cloackroom available\n~DRESS CODE: smart casual\n\nhttps://www.faceboo
 k.com/events/1971794089923007/?event_time_id=1971794143256335
ATTACH;FMTTYPE=image/jpeg:https://night4u.pl/wp-content/uploads/2025/01/
 𝖨𝖳𝖬𝖮𝖲-𝖣𝖤𝖫-𝖫𝖴𝖭𝖤𝖲-🤎-Teatro-Cuban
 o-•-Every-Monday-•-8PM.jpg
CATEGORIES:małopolskie
LOCATION:Jagiellońska 10\, 31-010 Kraków\, Poland\, Jagiellońska 10\, 31
 -010 Kraków\, Poland\, 
X-APPLE-STRUCTURED-LOCATION;VALUE=URI;X-ADDRESS=Jagiellońska 10\, 31-010 K
 raków\, Poland\, ;X-APPLE-RADIUS=100;X-TITLE=Jagiellońska 10\, 31-010 Kr
 aków\, Poland:geo:0,0
END:VEVENT
BEGIN:VTIMEZONE
TZID:Europe/Warsaw
X-LIC-LOCATION:Europe/Warsaw
BEGIN:STANDARD
DTSTART:20241027T020000
TZOFFSETFROM:+0200
TZOFFSETTO:+0100
TZNAME:CET
END:STANDARD
END:VTIMEZONE
END:VCALENDAR