BEGIN:VCALENDAR
VERSION:2.0
PRODID:-//wp-events-plugin.com//7.2.3.1//EN
TZID:Europe/Warsaw
X-WR-TIMEZONE:Europe/Warsaw
BEGIN:VEVENT
UID:51779@night4u.pl
DTSTART;TZID=Europe/Warsaw:20241231T210000
DTEND;TZID=Europe/Warsaw:20250101T050000
DTSTAMP:20241217T214323Z
URL:https://night4u.pl/wydarzenia/%f0%9f%8e%89-sylwester-2024-25-%f0%9f%8e
 %89-disco-party-2000s-x-kriss-olivia-grant-x-31-12/
SUMMARY:🎉 SYLWESTER 2024/25 🎉 Disco Party 2000's x Kriss & Olivia Gra
 nt x 31.12
DESCRIPTION:Powrót do lat 2000 i hity disco! 🕺🎉\n\nZapraszamy Was na
  najbardziej taneczną noc roku! Grand Club przenosi Was w czasie do szalo
 nych lat 2000\, gdzie królowały hity disco i niezapomniane przeboje 🌟
 \n\n🎶 Muzyka: Olivia Grant oraz Kriss zagrają dla Was największe hity
  disco lat 2000\, które porwą Was do tańca aż do białego rana!\n\n✨
  Atrakcje:\nLustrzane kule\, neonowe światła i kolorowe dekoracje\, któ
 re przeniosą Was w klimat tamtych lat! Niesamowite niespodzianki i show\,
  które zapamiętacie na długo!\n\n🍹 Specjalne menu: Pyszne drinki i k
 oktajle inspirowane latami 2000 oraz wyjątkowe przekąski przygotowane sp
 ecjalnie na tę noc!\n\nBilet wstępu – 100zł (kieliszek szampana o pó
 łnocy)\nRezerwacja loży ONLINE –https://grandclub.pl/rezerwacje/EventL
 oze/id/478646714/\n\nDostępne będą również pakiety zimnych przekąsek
  - napisz do nas\, a my Wyślemy Ci sylwestrową ofertę cateringową.\n\n
 Rezerwację przyjmować będziemy:\n- online: https://grandclub.pl/rezerwa
 cje/Event/id/828993526/\n- pod adresem: rezerwacje@grandclub.pl\n- numerem
  telefonu: +48 790 815 389\n\nDołączcie do nas i wspólnie przywitajmy N
 owy Rok w rytmach najlepszych hitów lat 2000! 🎉💃🕺\n\nReady to pa
 rty like it's the 2000s? 😎✨\n\nW klubie obowiązuje selekcja!\nDress 
 code: SMART CASUAL\n\nStartujemy o godzinie 21:00!\n______________________
 __\n→ INSTA | grandclub_rzeszow\n→ YOUTUBE | Grand Club\n→ MAIL | ma
 rketing@grandclub.pl\n→ WWW | grandclub.pl\n\n* Podane ceny obowiązują
  przez cały okres sprzedaży.\n* W sytuacji kiedy grupa będzie mniejsza 
 od ilości miejsc w loży\, istnieje możliwość połączenia z inną gru
 pą/osobami.\n* Liczba miejsc siedzących ograniczona.\n* Goście hotelowi
  mają możliwość dokupienia wejścia do klubu po regularnej cenie. Udog
 odnieniem jest osobne wejście\, bez konieczności wyjścia na zewnątrz.\
 n* Kwota nie jest do wykorzystania na barze. Odbiór rezerwacji odbywa si
 ę do godz. 24:00 przy kasie klubu. Po podanej godzinie rezerwacja może z
 ostać zaoferowana kolejnym gościom.
ATTACH;FMTTYPE=image/jpeg:https://night4u.pl/wp-content/uploads/2024/12/
 -SYLWESTER-2024-25-🎉-Disco-Party-2000s-x-Kriss-Olivia-Grant-x-31.12.j
 pg
CATEGORIES:podkarpackie
LOCATION:ul. Kościuszki 9\, 35-030 Rzeszów\, Poland\, ul. Kościuszki 9\,
  35-030 Rzeszów\, Poland\, 
X-APPLE-STRUCTURED-LOCATION;VALUE=URI;X-ADDRESS=ul. Kościuszki 9\, 35-030 
 Rzeszów\, Poland\, ;X-APPLE-RADIUS=100;X-TITLE=ul. Kościuszki 9\, 35-030
  Rzeszów\, Poland:geo:0,0
END:VEVENT
BEGIN:VTIMEZONE
TZID:Europe/Warsaw
X-LIC-LOCATION:Europe/Warsaw
BEGIN:STANDARD
DTSTART:20241027T020000
TZOFFSETFROM:+0200
TZOFFSETTO:+0100
TZNAME:CET
END:STANDARD
END:VTIMEZONE
END:VCALENDAR