BEGIN:VCALENDAR
VERSION:2.0
PRODID:-//wp-events-plugin.com//7.2.3.1//EN
TZID:Europe/Warsaw
X-WR-TIMEZONE:Europe/Warsaw
BEGIN:VEVENT
UID:51845@night4u.pl
DTSTART;TZID=Europe/Warsaw:20250522T180000
DTEND;TZID=Europe/Warsaw:20250523T230000
DTSTAMP:20250520T204430Z
URL:https://night4u.pl/wydarzenia/%f0%9f%9f%a3-noctualia-2025-juwenalia-ak
 ademii-bialskiej-im-jana-pawla-ii/
SUMMARY:🟣 Noctualia 2025 - Juwenalia Akademii Bialskiej im. Jana Pawła 
 II
DESCRIPTION:‼🟣 Noctualia 2025 - Juwenalia Akademii Bialskiej im. Jana 
 Pawła II 🟣‼\n\nLine-up 👀:\n\n22.05 - czwartek:\n🟣 Medusa\n🟣
  Jamal\n🟣 Kabe\n\n23.05 - piątek:\n🟣 Video\n🟣 DJ Dziekan\n🟣 M
 odelki\n\n\n🟣 Bitwa o klucz 🗝 Rektorat (ul. Sidorska 95/97) ✖️ 2
 2 maja ✖️ 17:30\n🟣 Wstęp Wolny - za darmo\n🟣 Wejście 16+\n🟣
  Teren Hali Sportowej Akademii Bialskiej im. Jana Pawła II\n\n🟣 Konkur
 s na przebranie (Voucher na darmowe piwo dla pierwszych 50 osób): https:/
 /www.facebook.com/share/p/1EaKKMJ7Mj/?mibextid=wwXIfr
ATTACH;FMTTYPE=image/jpeg:https://night4u.pl/wp-content/uploads/2025/05/
 -Noctualia-2025-–-Juwenalia-Akademii-Bialskiej-im.-Jana-Pawla-II.jpg
CATEGORIES:lubelskie
LOCATION:ul. Sidorska 107 (boisko za Halą Sportową)\, 21-500 Biała Podla
 ska\, Poland\, ul. Sidorska 107 (boisko za Halą Sportową)\, 21-500 Biał
 a Podlaska\, Poland\, 
X-APPLE-STRUCTURED-LOCATION;VALUE=URI;X-ADDRESS=ul. Sidorska 107 (boisko za
  Halą Sportową)\, 21-500 Biała Podlaska\, Poland\, ;X-APPLE-RADIUS=100;
 X-TITLE=ul. Sidorska 107 (boisko za Halą Sportową)\, 21-500 Biała Podla
 ska\, Poland:geo:0,0
END:VEVENT
BEGIN:VTIMEZONE
TZID:Europe/Warsaw
X-LIC-LOCATION:Europe/Warsaw
BEGIN:DAYLIGHT
DTSTART:20250330T030000
TZOFFSETFROM:+0100
TZOFFSETTO:+0200
TZNAME:CEST
END:DAYLIGHT
END:VTIMEZONE
END:VCALENDAR