BEGIN:VCALENDAR
VERSION:2.0
PRODID:-//wp-events-plugin.com//7.2.3.1//EN
TZID:Europe/Warsaw
X-WR-TIMEZONE:Europe/Warsaw
BEGIN:VEVENT
UID:6691@night4u.pl
DTSTART;TZID=Europe/Warsaw:20190301T210000
DTEND;TZID=Europe/Warsaw:20190302T050000
DTSTAMP:20190207T103624Z
URL:https://night4u.pl/wydarzenia/01-03-frinally-baccaratclub-with-dj-uche
 /
SUMMARY:01.03 FriNally @BaccaratCLUB with DJ UCHE
DESCRIPTION:01.03 FriNally @BaccaratCLUB with DJ UCHE\n\n\nZobacz jak wygl
 ąda dobra impreza !!!!\nTo wszystko oferuje Baccarat Club\n\nBądźcie z 
 nami !!!!!\n\n*\n\nAby korzystać ze zniżek oraz wejść za darmo do 23:0
 0\ndopisz się do listy gości\, wysylajac maila z imionami i nazwiskami n
 a adres info@baccaratclub.pl\n\nWSTĘP FREE DO KLUBU TYLKO Z LISTY GOŚCI 
 !!!\n\n*\n\nBACCARAT TO MIEJSCE DLA LUDZI Z CHARAKTEREM\nLET THE SHOW BEGI
 N!!!!!\n\nINFO I REZERWACJA\nINFO @BACCARATCLUB.PL\nTEL :695 116 760\nWWW.
 BACCARATCLUB.PL\n\nMuzyka POP R’N’B DISCO
ATTACH;FMTTYPE=image/jpeg:https://night4u.pl/wp-content/uploads/2019/02/19
 596_image_51410330_2695623043811103_7137484761114607616_n.jpg
CATEGORIES:małopolskie
LOCATION:Baccarat Club\, ul. Stolarska 13\, Kraków\, 31-043\, Poland
GEO:50.05978;19.93865
X-APPLE-STRUCTURED-LOCATION;VALUE=URI;X-ADDRESS=ul. Stolarska 13\, Kraków\
 , 31-043\, Poland;X-APPLE-RADIUS=100;X-TITLE=Baccarat Club:geo:50.05978,19
 .93865
END:VEVENT
BEGIN:VTIMEZONE
TZID:Europe/Warsaw
X-LIC-LOCATION:Europe/Warsaw
BEGIN:STANDARD
DTSTART:20181028T020000
TZOFFSETFROM:+0200
TZOFFSETTO:+0100
TZNAME:CET
END:STANDARD
END:VTIMEZONE
END:VCALENDAR