BEGIN:VCALENDAR
VERSION:2.0
PRODID:-//wp-events-plugin.com//7.2.3.1//EN
TZID:Europe/Warsaw
X-WR-TIMEZONE:Europe/Warsaw
BEGIN:VEVENT
UID:7281@night4u.pl
DTSTART;TZID=Europe/Warsaw:20190301T213000
DTEND;TZID=Europe/Warsaw:20190302T050000
DTSTAMP:20190213T190950Z
URL:https://night4u.pl/wydarzenia/01-03-piatek-maiqel-holiday-club-start-2
 1-30/
SUMMARY:01/03 Piątek MaiQel Holiday-Club Start 21.30
DESCRIPTION:Wstęp 20 +\nWstęp Panie i Panowie - 15 zł\nDo 22:30 - Wstęp
  Free\n\nStart 21.30\n\nZagra: Maiqel\n\nRezerwacje loży i limuzyny : rez
 erwacje@holiday.szczecin.pl\n+48 690 615 615
ATTACH;FMTTYPE=image/jpeg:https://night4u.pl/wp-content/uploads/2019/02/20
 887_image_52029365_598892887189846_3757323865412337664_n.jpg
CATEGORIES:zachodniopomorskie
LOCATION:Holiday-Club.Szczecin\, 3 maja 20\, Szczecin\, 70-215\, Poland
GEO:53.419506;14.548911
X-APPLE-STRUCTURED-LOCATION;VALUE=URI;X-ADDRESS=3 maja 20\, Szczecin\, 70-2
 15\, Poland;X-APPLE-RADIUS=100;X-TITLE=Holiday-Club.Szczecin:geo:53.419506
 ,14.548911
END:VEVENT
BEGIN:VTIMEZONE
TZID:Europe/Warsaw
X-LIC-LOCATION:Europe/Warsaw
BEGIN:STANDARD
DTSTART:20181028T020000
TZOFFSETFROM:+0200
TZOFFSETTO:+0100
TZNAME:CET
END:STANDARD
END:VTIMEZONE
END:VCALENDAR