BEGIN:VCALENDAR
VERSION:2.0
PRODID:-//wp-events-plugin.com//7.2.3.1//EN
TZID:Europe/Warsaw
X-WR-TIMEZONE:Europe/Warsaw
BEGIN:VEVENT
UID:6684@night4u.pl
DTSTART;TZID=Europe/Warsaw:20190302T210000
DTEND;TZID=Europe/Warsaw:20190303T050000
DTSTAMP:20190207T103621Z
URL:https://night4u.pl/wydarzenia/02-03-baccaratclub-lets-party-with-dvj-m
 ic-sax-olaf-w/
SUMMARY:02.03 @Baccaratclub Let’s Party with DVJ MIC | SAX OLAF W.
DESCRIPTION:02.03 @Baccaratclub Let’s Party with DVJ MIC | SAX OLAF W.\n\
 n \n\nZMOBILIZUJCIE SIŁY NA IMPREZĘ!!!\n\n \n\nOdwiedź nasz klub i na w
 łasnych uszach przekonaj się jaki styl muzyczny tego wieczoru zawładnie
  twoim ciałem i umysłem. Właśnie tak!!!\nPo pierwszym razie nie będzi
 ecie chcieli przestać.\nBo my Jesteśmy uzależniający!!\nCały czas buj
 amy i luzujemy. Wbijajcie na parkiet\, gdy macie coś do powiedzenia – w
 ytańczcie to.!!!!!!\n\n*\nJak zdobyć wejściówkę?\n*\nJeśli chcesz za
 proszenie na imprezę oraz masz ochotę na powitalnego drinka od klubu\, w
 yślij maila z: datą imprezy\, Twoim imieniem i nazwiskiem\, oraz imionam
 i i nazwiskami znajomych\, których chciałbyś zabrać ze sobą na adres:
  INFO@BACCARATCLUB.PL\n*\nBACCARAT TO MIEJSCE DLA LUDZI Z CHARAKTEREM\nLET
  THE SHOW BEGIN!!!!!\n*\nINFO I REZERWACJA\nINFO@BACCARATCLUB.PL\nTEL :695
  116 760\nWWW.BACCARATCLUB.PL\nwww.baccaratmusicclub.blogspot.com\n\n \n\n
 Wejscie do klubu FREE tylko z listy gosci !!!!
ATTACH;FMTTYPE=image/jpeg:https://night4u.pl/wp-content/uploads/2019/02/19
 582_image_51342623_2695629083810499_8375455173757108224_n.jpg
CATEGORIES:małopolskie
LOCATION:Baccarat Club\, ul. Stolarska 13\, Kraków\, 31-043\, Poland
GEO:50.05978;19.93865
X-APPLE-STRUCTURED-LOCATION;VALUE=URI;X-ADDRESS=ul. Stolarska 13\, Kraków\
 , 31-043\, Poland;X-APPLE-RADIUS=100;X-TITLE=Baccarat Club:geo:50.05978,19
 .93865
END:VEVENT
BEGIN:VTIMEZONE
TZID:Europe/Warsaw
X-LIC-LOCATION:Europe/Warsaw
BEGIN:STANDARD
DTSTART:20181028T020000
TZOFFSETFROM:+0200
TZOFFSETTO:+0100
TZNAME:CET
END:STANDARD
END:VTIMEZONE
END:VCALENDAR