BEGIN:VCALENDAR
VERSION:2.0
PRODID:-//wp-events-plugin.com//7.2.3.1//EN
TZID:Europe/Warsaw
X-WR-TIMEZONE:Europe/Warsaw
BEGIN:VEVENT
UID:7280@night4u.pl
DTSTART;TZID=Europe/Warsaw:20190302T213000
DTEND;TZID=Europe/Warsaw:20190303T050000
DTSTAMP:20190213T190948Z
URL:https://night4u.pl/wydarzenia/02-03-sobota-zakonczenie-karnawalu-holid
 ay-club-start-21-30/
SUMMARY:02/03 Sobota / Zakończenie Karnawału Holiday-CLUB start 21.30
DESCRIPTION:Zbliża się ostatnia sobota karnawału. Proponujemy spędzić 
 ją w stylu Holiday Club. Ja zawsze postaramy się\, by impreza była niez
 apomniana\, a klimat jeszcze długo wspominany. Tej nocy jak zawsze do was
 zej dyspozycji będą dwa niezależne parkiety i różnorodne style muzycz
 ne. Nie obędzie się również bez dodatkowych atrakcji\, gdyż z okazji 
 ostatków na głównym parkiecie oprócz Maiqela\, wystąpi również Mich
 ał Saxo. To będzie już drugi występ Michała i z pewnością po raz ko
 lejny będziemy mogli potańczyć do fantastycznych dźwięków jego sakso
 fonu. Szykuje się zatem rewelacyjne zakończenie karnawału\, na które s
 erdecznie zapraszamy.\n\n-------------------------------------------------
 ---------------\n\nWstęp 21+\nStart 21.30\n\nWstęp Panie i Panowie - 25 
 zł\n\nZagra: Maiqel \,  Gregg\nLive Act: Michał Saxo\n\nDarmowy dojazd l
 imuzyną HUMMER dla grup +8 osób\n\nRezerwacje loży i limuzyny : rezerwa
 cje@holiday.szczecin.pl\nTel. +48 690 615 615
ATTACH;FMTTYPE=image/jpeg:https://night4u.pl/wp-content/uploads/2019/02/20
 885_image_51270221_595734060839062_8735831603093176320_n.jpg
CATEGORIES:zachodniopomorskie
LOCATION:Holiday-Club.Szczecin\, 3 maja 20\, Szczecin\, 70-215\, Poland
GEO:53.419506;14.548911
X-APPLE-STRUCTURED-LOCATION;VALUE=URI;X-ADDRESS=3 maja 20\, Szczecin\, 70-2
 15\, Poland;X-APPLE-RADIUS=100;X-TITLE=Holiday-Club.Szczecin:geo:53.419506
 ,14.548911
END:VEVENT
BEGIN:VTIMEZONE
TZID:Europe/Warsaw
X-LIC-LOCATION:Europe/Warsaw
BEGIN:STANDARD
DTSTART:20181028T020000
TZOFFSETFROM:+0200
TZOFFSETTO:+0100
TZNAME:CET
END:STANDARD
END:VTIMEZONE
END:VCALENDAR