BEGIN:VCALENDAR
VERSION:2.0
PRODID:-//wp-events-plugin.com//7.2.3.1//EN
TZID:Europe/Warsaw
X-WR-TIMEZONE:Europe/Warsaw
BEGIN:VEVENT
UID:34006@night4u.pl
DTSTART;TZID=Europe/Warsaw:20191102T200000
DTEND;TZID=Europe/Warsaw:20191103T040000
DTSTAMP:20191102T224026Z
URL:https://night4u.pl/wydarzenia/02-11-%e2%98%85-sb-%e2%98%85-we-love-sat
 urday-%e2%98%85-k-tronic/
SUMMARY:02.11 ★ sb ★ We Love Saturday ★ K-Tronic
DESCRIPTION:Maksimum energii! 🔥\nSobota to zestaw energetycznej mieszank
 i wielu stylów muzycznych\nPrzygotujcie się na dużo gorących nowości 
 i nieznanych do tej pory brzmień w nowych obliczach! ❤️\n💿 Energic
 zny powiew nie tylko nowości zagwarantuje K-Tronic Grzegorz Gołoś\n\nPo
 tężna dawka:\n🔈 electro\n🔈 polskie wstawki\n🔈 muzyki klubowej\n
 🔈 hitów z top list\n🔈 odświeżonych starych wersji\n\nPrzekonajmy 
 się osobiście ❤️\n__________________________________________________
 \nStart: 20:00 \n★ DRESS CODE ★\nŁadnie\, schludnie\, ale nie sportow
 o\n\nWstęp / +18 SELEKCJA\n______________________________________________
 ____\n★ RESERVATIONS &amp\; SOCIAL MEDIA ★\n84 639 26 26 - info i reze
 rwacje\nInstagram: https://www.instagram.com/broadway_club_zamosc/\nFacebo
 ok: https://www.facebook.com/BroadwayZamosc/\nYouTube: https://www.youtube
 .com/channel/UCWxbnJltCxH7XCAK7pugMLA\n___________________________________
 _______________\n★ CONTACT ★\nBroadway Club Zamość | Peowiaków 94\n
 broadway-club.pl\n\nImprezy/catering/zamówienia/restauracja i ogólne zap
 ytania:\nbroadway.klub@gmail.com
ATTACH;FMTTYPE=image/jpeg:https://night4u.pl/wp-content/uploads/2019/10/86
 830_image_74272796_3648366921855602_330864124202319872_o.jpg
CATEGORIES:lubelskie
LOCATION:Broadway Club & Restaurant\, ul. Peowiaków 94\, Zamosc\, 22-400\,
  Poland
GEO:50.715726;23.261037
X-APPLE-STRUCTURED-LOCATION;VALUE=URI;X-ADDRESS=ul. Peowiaków 94\, Zamosc\
 , 22-400\, Poland;X-APPLE-RADIUS=100;X-TITLE=Broadway Club & Restaurant:ge
 o:50.715726,23.261037
END:VEVENT
BEGIN:VTIMEZONE
TZID:Europe/Warsaw
X-LIC-LOCATION:Europe/Warsaw
BEGIN:STANDARD
DTSTART:20191027T020000
TZOFFSETFROM:+0200
TZOFFSETTO:+0100
TZNAME:CET
END:STANDARD
END:VTIMEZONE
END:VCALENDAR