BEGIN:VCALENDAR
VERSION:2.0
PRODID:-//wp-events-plugin.com//7.2.3.1//EN
TZID:Europe/Warsaw
X-WR-TIMEZONE:Europe/Warsaw
BEGIN:VEVENT
UID:33839@night4u.pl
DTSTART;TZID=Europe/Warsaw:20191102T210000
DTEND;TZID=Europe/Warsaw:20191103T040000
DTSTAMP:20191102T091809Z
URL:https://night4u.pl/wydarzenia/02-11-dance-music-night-dj-jay-panie-fre
 e-do-22-18/
SUMMARY:02/11 // Dance Music Night / DJ Jay / panie free do 22 / 18+
DESCRIPTION:Vehikuł Czasu Środa Wielkopolska zaprasza na pierwszą sobot
 ę w listopadzie - noc\, którą wypełnimy tanecznymi przebojami. "Dance 
 Music Night" to hasło przewodnie wieczoru 2 listopada.\n\nZaprasza: DJ Ja
 y\n➡ start: 21.00\n➡ wstęp: 10 PLN (gwarantowane do 22.00)\n💖 pani
 e do godziny 22.00 wstęp na koszt klubu!\n\nℹ http://sroda.vehikulczasu
 .pl\n\nKlub Vehikuł Czasu\nŚroda Wielkopolska\, ul. Wiosny Ludów 10\nre
 zerwacje: http://rezerwacje.vehikulczasu.pl
ATTACH;FMTTYPE=image/jpeg:https://night4u.pl/wp-content/uploads/2019/10/85
 686_image_73497785_2465287743687247_3303851653408489472_o.jpg
CATEGORIES:wielkopolskie
LOCATION:Vehikuł Czasu Środa Wielkopolska\, Wiosny Ludów 10\, Sroda Wiel
 kopolska\, 63-000\, Poland
GEO:52.227783;17.276824
X-APPLE-STRUCTURED-LOCATION;VALUE=URI;X-ADDRESS=Wiosny Ludów 10\, Sroda Wi
 elkopolska\, 63-000\, Poland;X-APPLE-RADIUS=100;X-TITLE=Vehikuł Czasu Śr
 oda Wielkopolska:geo:52.227783,17.276824
END:VEVENT
BEGIN:VTIMEZONE
TZID:Europe/Warsaw
X-LIC-LOCATION:Europe/Warsaw
BEGIN:STANDARD
DTSTART:20191027T020000
TZOFFSETFROM:+0200
TZOFFSETTO:+0100
TZNAME:CET
END:STANDARD
END:VTIMEZONE
END:VCALENDAR