BEGIN:VCALENDAR
VERSION:2.0
PRODID:-//wp-events-plugin.com//7.2.3.1//EN
TZID:Europe/Warsaw
X-WR-TIMEZONE:Europe/Warsaw
BEGIN:VEVENT
UID:30299@night4u.pl
DTSTART;TZID=Europe/Warsaw:20191004T210000
DTEND;TZID=Europe/Warsaw:20191005T040000
DTSTAMP:20191003T235100Z
URL:https://night4u.pl/wydarzenia/04-10-dopeness-%e2%98%85wide-whiteboy%e2
 %98%85-zla-kobieta/
SUMMARY:04.10 // Dopeness ★Wide :: Whiteboy★ Zła Kobieta
DESCRIPTION:▬▬▬\n04.10 // Dopeness ★Wide :: Whiteboy★\n▬▬▬\
 nNiesamowicie\, nadzwyczajnie\, wyjątkowo\, świetnie\, niezwykle\, niesp
 otykanie\, fantastycznie\, nieziemsko\, wspalanie. Dopeness można tłumac
 zyć różnie\, ale zrozumieć można tylko w jeden sposób – odwiedzaj
 ąc w ten piątek Złą Kobietę. Dwóch niesamowitych DJ-ów\, świetna s
 elekcja tanecznej muzyki\, wyjątkowa obsługa za barem\, nadzwyczajna atm
 osfera. Przymiotniki można mnożyć i łączyć je z różnymi atrakcjami
 \, które serwujemy – ale doświadczyć ich wszystkich naraz można tylk
 o na tej imprezie. I to jest naprawdę dope. Zresztą\, przekonacie się s
 ami. Wiemy\, że nie omieszkacie sprawdzić. \n▬▬▬▬▬▬▬▬▬
 ▬▬▬▬▬▬▬▬▬▬▬▬▬▬▬▬\nMUSIC: Rap / R’n’B /
  Trap / Twerk / House / Funky / All Time Classic’s\n▬▬▬▬▬▬
 ▬▬▬▬▬▬▬▬▬▬▬▬▬▬▬▬▬▬▬\n\n★WhiteBoy
 ★ \nŁącząc różne gatunki od house po nudisco tworzy energetyczny mi
 x\, który nie pozwala zejść z parkietu. Jego sety opierają się na sam
 odzielnie przygotowanych utworach\, w celu stworzenia unikalnego show. Od 
 2011 roku aktywnie działa na polskiej scenie klubowej. \nwww.facebook.com
 /WhiteBoyRocksDJ\nwww.soundcloud.com/WhiteBoyRocks\nwww.mixcloud.com/White
 BoyRocks\n\n★WIDE★\nW "branży" od 2005r. Przez tych kilka lat\, fascy
 nacje poszczególnymi gatunkami mijały i przychodziły nowe\, co z pewno
 ścią wpłynęło na jego ukształtowanie muzyczne. Dzięki temu nie boi 
 się mieszania za sobą wielu gatunków i stylów muzycznych\, czego efekt
 em są imprezy pełne starannie wyselekcjonowanej muzyki na najwyższym po
 ziomie. Kilka rezydentur w trójmiejskich klubach\, oraz wiele występów 
 w większości znaczących klubów na Pomorzu pozwoliło mu nabrać doświ
 adczenia we współpracy z publiką. Obecnie jego styl można pokrótce ok
 reślić jako wybuchową mieszankę hip-hopowych brzmień (rap\, r'n'b\, f
 unk\, disco)\, mashup-ów\, house \, niekiedy „mocniejszej” elektronik
 i (breaks\, dubstep\, d’n'b)\, oraz świeżych brzmień (trap\, twerk\, 
 bass music) która nie pozwoli wam stać w miejscu.\nhttps://www.facebook.
 com/djwidepl\nhttps://www.instagram.com/djwidepl\n\n\nENTRY:\nWstęp Free 
 do 22:00\n\nREZERWACJE:\n +48 606 853 930\n\nINSTAGRAM:\nhttps://www.insta
 gram.com/zlakobietasopot/
ATTACH;FMTTYPE=image/jpeg:https://night4u.pl/wp-content/uploads/2019/10/69
 871_image_71536581_10157586127527179_6909881151175786496_n.jpg
CATEGORIES:pomorskie
LOCATION:Zła Kobieta\, Bohaterów Monte Cassino 53\, Sopot\, 81-767\, Pola
 nd
GEO:54.44433;18.56666
X-APPLE-STRUCTURED-LOCATION;VALUE=URI;X-ADDRESS=Bohaterów Monte Cassino 53
 \, Sopot\, 81-767\, Poland;X-APPLE-RADIUS=100;X-TITLE=Zła Kobieta:geo:54.
 44433,18.56666
END:VEVENT
BEGIN:VTIMEZONE
TZID:Europe/Warsaw
X-LIC-LOCATION:Europe/Warsaw
BEGIN:DAYLIGHT
DTSTART:20190331T030000
TZOFFSETFROM:+0100
TZOFFSETTO:+0200
TZNAME:CEST
END:DAYLIGHT
END:VTIMEZONE
END:VCALENDAR