BEGIN:VCALENDAR
VERSION:2.0
PRODID:-//wp-events-plugin.com//7.2.3.1//EN
TZID:Europe/Warsaw
X-WR-TIMEZONE:Europe/Warsaw
BEGIN:VEVENT
UID:37177@night4u.pl
DTSTART;TZID=Europe/Warsaw:20191206T210000
DTEND;TZID=Europe/Warsaw:20191207T040000
DTSTAMP:20200401T080637Z
URL:https://night4u.pl/wydarzenia/06-12-%e2%98%86-mikolajki-%e2%98%86-beat
 ka-%e2%98%86-18/
SUMMARY:06/12 ☆ Mikołajki ☆ Beatka ☆ 18+
DESCRIPTION:Mamy zaszczyt zaprosić na kolejny nieprzeciętny melanż w Bea
 tce!\n\n▀▀▀▀▀▀▀▀▀▀▀▀▀▀▀▀▀▀▀▀▀▀
 ▀\n🎅🎅 Mikołajkowy Melanż\n🎅🎅 Klub BEATKA\n🎅🎅 Piątek
 \, 6 grudnia\n🎅🎅 Wstęp 18+\n🎅🎅 Bilety 10 PLN\n\n▄▄▄▄
 ▄▄▄▄▄▄▄▄▄▄▄▄▄▄▄▄▄▄▄ \n\n\nYo ho ho!!
  ☃️ Czas na mikołajkowy szoł! Wyjątkowa impreza już 6 grudnia w pi
 ątek z okazji Mikołajek! :-) ⚡⚡ Mnóstwo atrakcji\, wspaniała atmos
 fera\, najlepsze klubowe hity i niezapomniane przeżycia to wszystko czeka
  specjalnie na Was tej nocy! 💣💥\n\n🎅🎅 ROZDAJEMY CZAPKI MIKOŁA
 JKI 🎅🎅\n\nImprezę rozkręca Sound Activ Paweł Merena 🎧🎧\n\nZ
 apraszamy!!!
ATTACH;FMTTYPE=image/jpeg:https://night4u.pl/wp-content/uploads/2019/11/10
 2497_image_74211327_2339347679526638_4733230380268650496_n.jpg
CATEGORIES:dolnośląskie
LOCATION:Beatka Music Club\, ul. Karkonoska 1\, Lubin\, 59-300\, Poland
GEO:51.392528;16.205153
X-APPLE-STRUCTURED-LOCATION;VALUE=URI;X-ADDRESS=ul. Karkonoska 1\, Lubin\, 
 59-300\, Poland;X-APPLE-RADIUS=100;X-TITLE=Beatka Music Club:geo:51.392528
 ,16.205153
END:VEVENT
BEGIN:VTIMEZONE
TZID:Europe/Warsaw
X-LIC-LOCATION:Europe/Warsaw
BEGIN:STANDARD
DTSTART:20191027T020000
TZOFFSETFROM:+0200
TZOFFSETTO:+0100
TZNAME:CET
END:STANDARD
END:VTIMEZONE
END:VCALENDAR