BEGIN:VCALENDAR
VERSION:2.0
PRODID:-//wp-events-plugin.com//7.2.3.1//EN
TZID:Europe/Warsaw
X-WR-TIMEZONE:Europe/Warsaw
BEGIN:VEVENT
UID:35247@night4u.pl
DTSTART;TZID=Europe/Warsaw:20191108T200000
DTEND;TZID=Europe/Warsaw:20191109T030000
DTSTAMP:20191107T224015Z
URL:https://night4u.pl/wydarzenia/08-11-%e2%98%85-pt-%e2%98%85-back-to-the
 -80s-90s-%e2%98%85-dj-bartoldie/
SUMMARY:08.11 ★ pt ★ Back to the 80's &amp\; 90's ★ DJ Bartoldie
DESCRIPTION:Odjechane lata 80' i 90' 🔥\nMuzyczny powrót do przeszłośc
 i 📻 😎\nBędziemy wspominać największe hity ostatnich lat i ich nie
 zwykłe odświeżone wersje 🔈🔈🔈\n\nWyselekcjonowane brzmienia wpr
 ost od Dj BartOldie znany jako Bartek BartOldie Baraniak\n________________
 __________________________________\n\nStart: 20:00 \n★ DRESS CODE ★\n
 Ładnie\, schludnie\, ale nie sportowo\n\nWstęp / +18 SELEKCJA\nVIP CARD 
 - wejście bezpłatne\n__________________________________________________\
 n★ RESERVATIONS &amp\; SOCIAL MEDIA ★\n84 639 26 26 - info i rezerwacj
 e\nInstagram: https://www.instagram.com/broadway_club_zamosc/\nFacebook: h
 ttps://www.facebook.com/BroadwayZamosc/\nYouTube: https://www.youtube.com/
 channel/UCWxbnJltCxH7XCAK7pugMLA\n________________________________________
 __________\n★ CONTACT ★\nBroadway Club Zamość | Peowiaków 94\nbroad
 way-club.pl\n\nImprezy/catering/zamówienia/restauracja i ogólne zapytani
 a:\nbroadway.klub@gmail.com
ATTACH;FMTTYPE=image/jpeg:https://night4u.pl/wp-content/uploads/2019/11/92
 793_image_74306323_3671001826258778_1489934127896461312_o.jpg
CATEGORIES:lubelskie
LOCATION:Broadway Club & Restaurant\, ul. Peowiaków 94\, Zamosc\, 22-400\,
  Poland
GEO:50.715726;23.261037
X-APPLE-STRUCTURED-LOCATION;VALUE=URI;X-ADDRESS=ul. Peowiaków 94\, Zamosc\
 , 22-400\, Poland;X-APPLE-RADIUS=100;X-TITLE=Broadway Club & Restaurant:ge
 o:50.715726,23.261037
END:VEVENT
BEGIN:VTIMEZONE
TZID:Europe/Warsaw
X-LIC-LOCATION:Europe/Warsaw
BEGIN:STANDARD
DTSTART:20191027T020000
TZOFFSETFROM:+0200
TZOFFSETTO:+0100
TZNAME:CET
END:STANDARD
END:VTIMEZONE
END:VCALENDAR