BEGIN:VCALENDAR
VERSION:2.0
PRODID:-//wp-events-plugin.com//7.2.3.1//EN
TZID:Europe/Warsaw
X-WR-TIMEZONE:Europe/Warsaw
BEGIN:VEVENT
UID:41872@night4u.pl
DTSTART;TZID=Europe/Warsaw:20200109T200000
DTEND;TZID=Europe/Warsaw:20200110T030000
DTSTAMP:20200109T224021Z
URL:https://night4u.pl/wydarzenia/09-01-%e2%98%85-czw-%e2%98%85-ladies-nig
 ht-drinki-xxl-%e2%98%85-szejq/
SUMMARY:09.01 ★ czw ★ Ladies Night Drinki XXL ★ SzejQ
DESCRIPTION:Wyjątkowa noc dla każdej Pani ❤️\nTematyczny czwartek ❤
 ️\n⭐ Wyjątkowa noc dla każdej Pani\nI najbardziej kobieca impreza na
  mapie Zamościa\n\nWszystkie Panie\n⭐ wchodzą bezpłatnie\n⭐ i czeka
  na nich wyśmienity drink w wersji XXL!\n\n➡️ DJ SzejQ przejmuje ster
 y za konsolą\nBędą nowości\, klubowe brzmienia i polskie hiciory\n____
 ______________________________________________\n\nStart: 20:00 \n★ DRESS
  CODE ★\nŁadnie\, schludnie\, ale nie sportowo\n\nWstęp / +18 SELEKCJA
 \nVIP CARD - wejście bezpłatne\nPanie - wejście bezpłatne\n___________
 _______________________________________\n★ RESERVATIONS &amp\; SOCIAL ME
 DIA ★\n84 639 26 26 - info i rezerwacje\nInstagram: https://www.instagra
 m.com/broadway_club_zamosc/\nFacebook: https://www.facebook.com/BroadwayZa
 mosc/\nYouTube: https://www.youtube.com/channel/UCWxbnJltCxH7XCAK7pugMLA\n
 __________________________________________________\n★ CONTACT ★\nBroad
 way Club Zamość | Peowiaków 94\nbroadway-club.pl\n\nImprezy/catering/za
 mówienia/restauracja i ogólne zapytania:\nbroadway.klub@gmail.com
ATTACH;FMTTYPE=image/jpeg:https://night4u.pl/wp-content/uploads/2020/01/13
 1972_image_82248484_3888673051158320_2132961757981835264_o.jpg
CATEGORIES:lubelskie
LOCATION:Broadway Club & Restaurant\, ul. Peowiaków 94\, Zamosc\, 22-400\,
  Poland
GEO:50.715726;23.261037
X-APPLE-STRUCTURED-LOCATION;VALUE=URI;X-ADDRESS=ul. Peowiaków 94\, Zamosc\
 , 22-400\, Poland;X-APPLE-RADIUS=100;X-TITLE=Broadway Club & Restaurant:ge
 o:50.715726,23.261037
END:VEVENT
BEGIN:VTIMEZONE
TZID:Europe/Warsaw
X-LIC-LOCATION:Europe/Warsaw
BEGIN:STANDARD
DTSTART:20191027T020000
TZOFFSETFROM:+0200
TZOFFSETTO:+0100
TZNAME:CET
END:STANDARD
END:VTIMEZONE
END:VCALENDAR