BEGIN:VCALENDAR
VERSION:2.0
PRODID:-//wp-events-plugin.com//7.2.3.1//EN
TZID:Europe/Warsaw
X-WR-TIMEZONE:Europe/Warsaw
BEGIN:VEVENT
UID:38923@night4u.pl
DTSTART;TZID=Europe/Warsaw:20191225T220000
DTEND;TZID=Europe/Warsaw:20191226T060000
DTSTAMP:20191226T004205Z
URL:https://night4u.pl/wydarzenia/1-szy-dzien-swiat-w-black-diamond-club-%
 e2%98%85-sroda-%e2%98%85-25-12-%e2%98%85/
SUMMARY:1-SZY DZIEŃ Świąt w Black Diamond Club ★ Środa ★ 25.12 ★
DESCRIPTION:1-SZY DZIEŃ Świąt w Black Diamond Club \n                   
     ⭐⭐⭐⭐⭐\nZarezerwuj Lożę VIP ( ilość stolików ograniczona
  )\n\nKlub Black Diamond Club posiada powierzchnię użytkową usytuowaną
  na dwóch poziomach !\n\n- ⭐ SALA GŁÓWNA\n- ⭐ VIP ROOM\n- ⭐ ZIMOW
 Y TARAS KLUBOWY "igloo" ❄ \n- ⭐ 2 parkiety\n- ⭐ 2 style muzyczne \n\
 nRezerwacje LOŻY (sala główna) oraz Loży VIP ROOM -\n661894138\n\nStar
 t : 22.00/ obowiązuje selekcja\nKlub do osób pełnoletnich. \n\nBLACK DI
 AMOND CLUB \nUL. PIĘKNA 2\n#zNamiNajlepiej
ATTACH;FMTTYPE=image/jpeg:https://night4u.pl/wp-content/uploads/2019/12/11
 2223_image_78866906_2776386779086377_6684789117852581888_o.jpg
CATEGORIES:podlaskie
LOCATION:Black Diamond Club\, Piękna 2\, Białystok\, 15-282\, Poland
GEO:53.128851;23.153415
X-APPLE-STRUCTURED-LOCATION;VALUE=URI;X-ADDRESS=Piękna 2\, Białystok\, 15
 -282\, Poland;X-APPLE-RADIUS=100;X-TITLE=Black Diamond Club:geo:53.128851,
 23.153415
END:VEVENT
BEGIN:VTIMEZONE
TZID:Europe/Warsaw
X-LIC-LOCATION:Europe/Warsaw
BEGIN:STANDARD
DTSTART:20191027T020000
TZOFFSETFROM:+0200
TZOFFSETTO:+0100
TZNAME:CET
END:STANDARD
END:VTIMEZONE
END:VCALENDAR