BEGIN:VCALENDAR
VERSION:2.0
PRODID:-//wp-events-plugin.com//7.2.3.1//EN
TZID:Europe/Warsaw
X-WR-TIMEZONE:Europe/Warsaw
BEGIN:VEVENT
UID:35066@night4u.pl
DTSTART;TZID=Europe/Warsaw:20191109T190000
DTEND;TZID=Europe/Warsaw:20191110T050000
DTSTAMP:20191107T092016Z
URL:https://night4u.pl/wydarzenia/1-urodziny-pub-piwnica-9-112019-belchato
 w/
SUMMARY:1. Urodziny Pub Piwnica // 9.112019 // Bełchatów
DESCRIPTION:Z tej okazji będziemy się bawić w rytmach lat 80 i 90.Specja
 lnie dla Was zagra DJ Bartolome Sardana\nPrzygotowaliśmy dla Naszych  GO
 ŚCI!!! :) \n-Tort wraz z ponczem\n-Swojskie przekąski\nORAZ KONKURS  na 
 najlepsze przebranie.\nNagroda główna dwuosobowa wejściówka na koncert
  Koncert - Pub Piwnica Bełchatów - &amp\;INNI / Konkubent / Bruklin\nII 
 miejsce dwuosobowa wejściówka na koncert Thrudy(21.12.2019r)\nIII miejsc
 e dwuosobowa wejściówka na imprezę  -III Edycja DRUMROLL(25.12.2019)\n-
 PROMOCYJNE CENY NA BARZE!!!!!!!!!
ATTACH;FMTTYPE=image/jpeg:https://night4u.pl/wp-content/uploads/2019/11/92
 235_image_74590088_2463700987182468_8383178474143088640_o.jpg
CATEGORIES:łódzkie
LOCATION:Pub Piwnica Bełchatów\, Pabianicka 5\, Bełchatow\, 97-400\, Pol
 and
GEO:51.36792;19.37011
X-APPLE-STRUCTURED-LOCATION;VALUE=URI;X-ADDRESS=Pabianicka 5\, Bełchatow\,
  97-400\, Poland;X-APPLE-RADIUS=100;X-TITLE=Pub Piwnica Bełchatów:geo:51
 .36792,19.37011
END:VEVENT
BEGIN:VTIMEZONE
TZID:Europe/Warsaw
X-LIC-LOCATION:Europe/Warsaw
BEGIN:STANDARD
DTSTART:20191027T020000
TZOFFSETFROM:+0200
TZOFFSETTO:+0100
TZNAME:CET
END:STANDARD
END:VTIMEZONE
END:VCALENDAR