BEGIN:VCALENDAR
VERSION:2.0
PRODID:-//wp-events-plugin.com//7.2.3.1//EN
TZID:Europe/Warsaw
X-WR-TIMEZONE:Europe/Warsaw
BEGIN:VEVENT
UID:41871@night4u.pl
DTSTART;TZID=Europe/Warsaw:20200110T200000
DTEND;TZID=Europe/Warsaw:20200111T030000
DTSTAMP:20200109T224018Z
URL:https://night4u.pl/wydarzenia/10-01-%e2%98%85-pt-%e2%98%85-back-to-80s
 -%e2%98%85-dj-fresh/
SUMMARY:10.01 ★ pt ★ Back to 80's ★ DJ Fresh
DESCRIPTION:Odjechane lata 80' i 90' 🔥\nTematyczny piątek ‼️\nMuzyc
 zny powrót do przeszłości 📻 😎\nBędziemy wspominać największe h
 ity ostatnich lat i ich niezwykłe odświeżone wersje 🔈🔈🔈\n\nWys
 elekcjonowane brzmienia wprost od DJ Fresha\n_____________________________
 _____________________\n\nStart: 20:00 \n★ DRESS CODE ★\nŁadnie\, schl
 udnie\, ale nie sportowo\n\nWstęp / +18 SELEKCJA\nVIP CARD - wejście bez
 płatne\n__________________________________________________\n★ RESERVATI
 ONS &amp\; SOCIAL MEDIA ★\n84 639 26 26 - info i rezerwacje\nInstagram: 
 https://www.instagram.com/broadway_club_zamosc/\nFacebook: https://www.fac
 ebook.com/BroadwayZamosc/\nYouTube: https://www.youtube.com/channel/UCWxbn
 JltCxH7XCAK7pugMLA\n__________________________________________________\n
 ★ CONTACT ★\nBroadway Club Zamość | Peowiaków 94\nbroadway-club.pl\
 n\nImprezy/catering/zamówienia/restauracja i ogólne zapytania:\nbroadway
 .klub@gmail.com
ATTACH;FMTTYPE=image/jpeg:https://night4u.pl/wp-content/uploads/2020/01/13
 1970_image_82284261_3898581976834094_2695475205286920192_o.jpg
CATEGORIES:lubelskie
LOCATION:Broadway Club & Restaurant\, ul. Peowiaków 94\, Zamosc\, 22-400\,
  Poland
GEO:50.715726;23.261037
X-APPLE-STRUCTURED-LOCATION;VALUE=URI;X-ADDRESS=ul. Peowiaków 94\, Zamosc\
 , 22-400\, Poland;X-APPLE-RADIUS=100;X-TITLE=Broadway Club & Restaurant:ge
 o:50.715726,23.261037
END:VEVENT
BEGIN:VTIMEZONE
TZID:Europe/Warsaw
X-LIC-LOCATION:Europe/Warsaw
BEGIN:STANDARD
DTSTART:20191027T020000
TZOFFSETFROM:+0200
TZOFFSETTO:+0100
TZNAME:CET
END:STANDARD
END:VTIMEZONE
END:VCALENDAR