BEGIN:VCALENDAR
VERSION:2.0
PRODID:-//wp-events-plugin.com//7.2.3.1//EN
TZID:Europe/Warsaw
X-WR-TIMEZONE:Europe/Warsaw
BEGIN:VEVENT
UID:51150@night4u.pl
DTSTART;TZID=Europe/Warsaw:20210910T210000
DTEND;TZID=Europe/Warsaw:20210910T210000
DTSTAMP:20210908T144904Z
URL:https://night4u.pl/wydarzenia/10-09-%e2%98%85-beatka-retro-time-dj-mat
 ys-%e2%98%85-lubin/
SUMMARY:10/09 ★ Beatka Retro Time | DJ Matys ★ Lubin
DESCRIPTION:★ Beatka Retro Time ★\n\nKochani już w piątkową noc 10 w
 rześnia czekają Nas kolejne wysokie loty podczas edycji Beatka Retro Tim
 e‼️🔥🚀✈️\n\nTej nocy specjalnie dla was na żywo za sterami k
 onsolety legenda Polskiej sceny klubowej - DJ Matys 🔥😍 tego pana nie
  trzeba nikomu przedstawiać!\n\nBilet w cenie 2️⃣0️⃣ PLN upoważn
 iać będzie również na wejście do klubu w następny dzień\, czyli sob
 otę 11 września‼️\n👉 przyjdź na edycję retro 👉 wejdź w sobo
 tę za FREE!🔥\n\n➡️ Start 21:00\n➡️ Bilety 20 PLN\n☎️ Rezer
 wacja 665 655 325
ATTACH;FMTTYPE=image/jpeg:https://night4u.pl/wp-content/uploads/2021/08/18
 6514_image_240227359_3981189358675787_333526177589036262_n.jpg
CATEGORIES:dolnośląskie
LOCATION:Lubin\, Lubin\, 59-300\, Poland
GEO:51.39968;16.20469
X-APPLE-STRUCTURED-LOCATION;VALUE=URI;X-ADDRESS=Lubin\, 59-300\, Poland;X-A
 PPLE-RADIUS=100;X-TITLE=Lubin:geo:51.39968,16.20469
END:VEVENT
BEGIN:VTIMEZONE
TZID:Europe/Warsaw
X-LIC-LOCATION:Europe/Warsaw
BEGIN:DAYLIGHT
DTSTART:20210328T030000
TZOFFSETFROM:+0100
TZOFFSETTO:+0200
TZNAME:CEST
END:DAYLIGHT
END:VTIMEZONE
END:VCALENDAR