BEGIN:VCALENDAR
VERSION:2.0
PRODID:-//wp-events-plugin.com//7.2.3.1//EN
TZID:Europe/Warsaw
X-WR-TIMEZONE:Europe/Warsaw
BEGIN:VEVENT
UID:32195@night4u.pl
DTSTART;TZID=Europe/Warsaw:20191110T210000
DTEND;TZID=Europe/Warsaw:20191111T050000
DTSTAMP:20200401T081030Z
URL:https://night4u.pl/wydarzenia/10-11-19-ja-dzisiaj-sie-bawie-nieokiemzn
 ani-dj-mlodziak/
SUMMARY:10/11/19 // Ja dzisiaj się bawię // NieOkiemZnani // DJ Młodziak
DESCRIPTION:Co myślicie o takiej imprezie w SilenceClub? \;)\n\nNieOkiemZn
 ani to młody duet na scenie muzyki disco\, który już wiele osiągnął!
  Ich debiutancki singiel pt. "Urlop na żądanie" obejrzało ponad MILION 
 i 300 000 osób! Supportowali Zenka\, Miłego Pana i Daj to głośniej\, z
 bierając za każdym razem mega głośny aplauz. Drugi singiel "Tańcz" pr
 zez wiele tygodni gościł na liście Polo TOP w telewizji 4Fun Dance oraz
  na Best Liście radia Vox FM. Teraz cała Polska czeka na trzeci singiel 
 pt. "Zaniedbana to do domu"\, którego premiera już za chwilę! Klip był
  kręcony właśnie w NASZYM KLUBIE! Zapraszamy na szaloną jazdę z duete
 m NieOkiemZnani już 10 listopada!\n______________________________________
 __________\nStart 21:00\nKlub zastrzega sobie prawo do selekcji gości +18
 .\n________________________________________________\n\nW ofercie dla Was t
 ego wieczora mamy:\nWjazd na imprezę z listy facebook'a za darmo dla wszy
 stkich którzy zjawią się do godziny 22:00 / \nPo 22:00 i spoza listy 10
 /15 zł\nListę zamykamy o 20!\n\nKliknij "wezmę udział" bo "zainteresow
 aną/ym" to można być co najwyżej kolejną kolejką przy barze.\nKoncer
 t zespołu NieOkiemZnani a przed i po nim zagra DJ Młodziak!\n___________
 _____________________________________\n\nZnajdź nas również na:\nSnapch
 at: silence_club || Instagram: @silenceclub\n\n\n10 listopada 2019\nSilenc
 eClub\nRadziszewskiego 8\nLublin
ATTACH;FMTTYPE=image/jpeg:https://night4u.pl/wp-content/uploads/2019/10/76
 823_image_71806691_3362052047153114_3195823330309439488_o.jpg
CATEGORIES:lubelskie
LOCATION:SilenceClub\, Radziszewskiego 8\, Lublin\, 20-031\, Poland
GEO:51.246457;22.543797
X-APPLE-STRUCTURED-LOCATION;VALUE=URI;X-ADDRESS=Radziszewskiego 8\, Lublin\
 , 20-031\, Poland;X-APPLE-RADIUS=100;X-TITLE=SilenceClub:geo:51.246457,22.
 543797
END:VEVENT
BEGIN:VTIMEZONE
TZID:Europe/Warsaw
X-LIC-LOCATION:Europe/Warsaw
BEGIN:STANDARD
DTSTART:20191027T020000
TZOFFSETFROM:+0200
TZOFFSETTO:+0100
TZNAME:CET
END:STANDARD
END:VTIMEZONE
END:VCALENDAR