BEGIN:VCALENDAR
VERSION:2.0
PRODID:-//wp-events-plugin.com//7.2.3.1//EN
TZID:Europe/Warsaw
X-WR-TIMEZONE:Europe/Warsaw
BEGIN:VEVENT
UID:30888@night4u.pl
DTSTART;TZID=Europe/Warsaw:20191011T210000
DTEND;TZID=Europe/Warsaw:20191012T040000
DTSTAMP:20191015T103807Z
URL:https://night4u.pl/wydarzenia/10-11-5iatek-wszytko-po-5-zl-do-2200/
SUMMARY:11.10 5iątek wszytko po 5 zł do 22:00
DESCRIPTION:5iątek! \nJuż w piątek tniemy ceny i balujemy do białego ra
 na przy najlepszych muzycznych brzmieniach\, o które zadba Dj TweeK! Pią
 ty dzień tygodnia\, a więc promocję także na piątkę:\n✖ Lista Face
 book wstęp FREE do 22:00!\ndołącz do wydarzenia już dzisiaj !\n(wystar
 czy kliknąć "wezmę udział"\n✖ PROMO BAR do 22:00 :\n- Piwo 0\,5l z k
 ega: 5 pln\n- Wódka 50ml: 5 pln\n- Whiskey 50ml: 5 pln\ni wiele innych al
 koholi ! \nszczegóły u barmanów :D\n\nDJ:\n✯ TweeK\nDress: smart casu
 al (luźno\, ale z klasą 👔)\nMusic: Commercial / Vocal House / Hip-Hop
  / R&amp\;B / \nRezerwacje miejsc:\n☎ 82 542 15 28
ATTACH;FMTTYPE=image/jpeg:https://night4u.pl/wp-content/uploads/2019/10/71
 338_image_71729532_2454231691309203_3201451068907061248_o.jpg
CATEGORIES:lubelskie
LOCATION:Ground Club\, Pl Łuczkowskiego 11\, Chełm\, 22-100\, Poland
GEO:51.13286;23.47388
X-APPLE-STRUCTURED-LOCATION;VALUE=URI;X-ADDRESS=Pl Łuczkowskiego 11\, Che
 łm\, 22-100\, Poland;X-APPLE-RADIUS=100;X-TITLE=Ground Club:geo:51.13286,
 23.47388
END:VEVENT
BEGIN:VTIMEZONE
TZID:Europe/Warsaw
X-LIC-LOCATION:Europe/Warsaw
BEGIN:DAYLIGHT
DTSTART:20190331T030000
TZOFFSETFROM:+0100
TZOFFSETTO:+0200
TZNAME:CEST
END:DAYLIGHT
END:VTIMEZONE
END:VCALENDAR