BEGIN:VCALENDAR
VERSION:2.0
PRODID:-//wp-events-plugin.com//7.2.3.1//EN
TZID:Europe/Warsaw
X-WR-TIMEZONE:Europe/Warsaw
BEGIN:VEVENT
UID:33235@night4u.pl
DTSTART;TZID=Europe/Warsaw:20191110T210000
DTEND;TZID=Europe/Warsaw:20191111T050000
DTSTAMP:20191110T215425Z
URL:https://night4u.pl/wydarzenia/10-11-oficjalne-after-party-lodz-disco-f
 est-2019/
SUMMARY:10.11 - Oficjalne After Party Łódź Disco Fest 2019
DESCRIPTION:10.11 - OFICJALNE AFTER PARTY ŁÓDŹ DISCO FEST 2019\n\nZapras
 zamy na oficjalne wydarzenie towarzyszące Łódź Disco Fest 2019. Czeka 
 na Was w BAJKA DISCO CLUB Łódź after party po koncertach w Atlas Arena.
  Zapraszamy!\n\n\nKLUB: DJ LIZARD\n\nStart 21:00\, selekcja +18 lat\nWstę
 p 10 PLN lub z biletem Łódź Disco Fest 2019 darmowy!\n\nLajkujcie nas i
  odwiedzajcie na:\nwww.bajkadiscoclub.pl\nwww.facebook.com/bajkadiscoclubl
 odz\n\nBAJKA DISCO CLUB\nŁódź\, Piotrkowska 90.
ATTACH;FMTTYPE=image/jpeg:https://night4u.pl/wp-content/uploads/2019/10/82
 191_image_72819261_1299858866858697_1605796647437074432_o.jpg
CATEGORIES:łódzkie
LOCATION:BAJKA DISCO CLUB Łódź\, Piotrkowska 90\, Łódź\, 90-103\, Pol
 and
GEO:51.76649;19.45728
X-APPLE-STRUCTURED-LOCATION;VALUE=URI;X-ADDRESS=Piotrkowska 90\, Łódź\, 
 90-103\, Poland;X-APPLE-RADIUS=100;X-TITLE=BAJKA DISCO CLUB Łódź:geo:51
 .76649,19.45728
END:VEVENT
BEGIN:VTIMEZONE
TZID:Europe/Warsaw
X-LIC-LOCATION:Europe/Warsaw
BEGIN:STANDARD
DTSTART:20191027T020000
TZOFFSETFROM:+0200
TZOFFSETTO:+0100
TZNAME:CET
END:STANDARD
END:VTIMEZONE
END:VCALENDAR