BEGIN:VCALENDAR
VERSION:2.0
PRODID:-//wp-events-plugin.com//7.2.3.1//EN
TZID:Europe/Warsaw
X-WR-TIMEZONE:Europe/Warsaw
BEGIN:VEVENT
UID:32849@night4u.pl
DTSTART;TZID=Europe/Warsaw:20191016T200000
DTEND;TZID=Europe/Warsaw:20191020T050000
DTSTAMP:20191019T161749Z
URL:https://night4u.pl/wydarzenia/10-urodziny-spizarni/
SUMMARY:10. urodziny Spiżarni!
DESCRIPTION:To już 10 lat jak jesteśmy z Wami!!!\nZ tej okazji zapraszamy
  Was do nas na urodzinowy tydzień\, na który składać się będą nast
 ępujące wydarzenia:\n\n16.10 - STAND-UP - Paweł Chałupka w programie E
 GO\nStart: 20:00\nBilety: 30/40 pln\nwięcej info tu: https://www.facebook
 .com/events/580272472378908/\n\n18.10 - SPOX NIGHT 43 - Sarius\nStart: 20:
 00\nBilety: 30 pln\nwięcej info tu: https://www.facebook.com/events/98219
 9002125305/\n\nPo koncercie after w czarnym klimacie nakręci WOJT\n\n19.1
 0 - URODZINOWA DYSKOTEKA z DeLorean Boys\nZagramy dla Was wszystko z ostat
 nich 10 lat działania Spiżarni (a i cofniemy się do kultowego Kwadratu)
 ! \nDużo lat '80\, '90. '00 i '10!\nRobimy IMPREZĘ DEKADY!!!\nBędą kon
 kursy\, promocje i niezawodni DeLorean Boys!!!\nWstęp darmowy!!!\n\nDo te
 go w Piwnicy zagrają dla Was:\n- w piątek - Łukasz\n- w sobotę - Grze
 ś\n\nZAPRASZAMY!!!
ATTACH;FMTTYPE=image/jpeg:https://night4u.pl/wp-content/uploads/2019/10/80
 296_image_72206849_3170579879650191_2924496811563417600_o.jpg
CATEGORIES:dolnośląskie
LOCATION:Klub Spiżarnia\, Piastowska 1\, Legnica\, 59-220\, Poland
GEO:51.207752;16.155634
X-APPLE-STRUCTURED-LOCATION;VALUE=URI;X-ADDRESS=Piastowska 1\, Legnica\, 59
 -220\, Poland;X-APPLE-RADIUS=100;X-TITLE=Klub Spiżarnia:geo:51.207752,16.
 155634
END:VEVENT
BEGIN:VTIMEZONE
TZID:Europe/Warsaw
X-LIC-LOCATION:Europe/Warsaw
BEGIN:DAYLIGHT
DTSTART:20190331T030000
TZOFFSETFROM:+0100
TZOFFSETTO:+0200
TZNAME:CEST
END:DAYLIGHT
END:VTIMEZONE
END:VCALENDAR