BEGIN:VCALENDAR
VERSION:2.0
PRODID:-//wp-events-plugin.com//7.2.3.1//EN
TZID:Europe/Warsaw
X-WR-TIMEZONE:Europe/Warsaw
BEGIN:VEVENT
UID:14190@night4u.pl
DTSTART;TZID=Europe/Warsaw:20190511T140000
DTEND;TZID=Europe/Warsaw:20190511T235900
DTSTAMP:20190429T194955Z
URL:https://night4u.pl/wydarzenia/100-lat-nazwy-legionowo/
SUMMARY:100 lat nazwy Legionowo
DESCRIPTION:100. rocznicy nadania nazwy Legionowo\n\n11 maja 2019 r. od god
 z. 14:00 /teren Areny Legionowo/\nw programie:\n14:00 Formowanie orszaku n
 a ul. Sowińskiego (na wysokości pomnika Piłsudskiego)\n14:30 Przemarsz 
 pod DPD Arenę Legionowo\n15:00 Ustanowienie rekordu Polski w graniu hejna
 łu na cymbałkach\n15:30 Urodzinowy tort\n16:00 Spektakl "Gwiazda Polski"
  \n17:00 Dawid Kwiatkowski \n18:00 Sidney Polak \n19:00 SexBomba\n20:00 C-
 bool\nFiesta Balonowa /boisko główne na Stadionie Miejskim/\nokoło 18:0
 0 Loty na uwięzi\n20:30 Nocny pokaz balonowy\n\nWśród atrakcji:\n- anim
 acje historyczne\n- dmuchańce\n- stoiska gastronomiczne
ATTACH;FMTTYPE=image/jpeg:https://night4u.pl/wp-content/uploads/2019/04/35
 490_image_58384337_1359266430878218_6695746167835197440_o.jpg
CATEGORIES:mazowieckie
LOCATION:Legionowo Porusza\, ul. Piłsudskiego 41\, Legionowo\, 05-120\, Po
 land
GEO:52.39517;20.93131
X-APPLE-STRUCTURED-LOCATION;VALUE=URI;X-ADDRESS=ul. Piłsudskiego 41\, Legi
 onowo\, 05-120\, Poland;X-APPLE-RADIUS=100;X-TITLE=Legionowo Porusza:geo:5
 2.39517,20.93131
END:VEVENT
BEGIN:VTIMEZONE
TZID:Europe/Warsaw
X-LIC-LOCATION:Europe/Warsaw
BEGIN:DAYLIGHT
DTSTART:20190331T030000
TZOFFSETFROM:+0100
TZOFFSETTO:+0200
TZNAME:CEST
END:DAYLIGHT
END:VTIMEZONE
END:VCALENDAR