BEGIN:VCALENDAR
VERSION:2.0
PRODID:-//wp-events-plugin.com//7.2.3.1//EN
TZID:Europe/Warsaw
X-WR-TIMEZONE:Europe/Warsaw
BEGIN:VEVENT
UID:12309@night4u.pl
DTSTART;TZID=Europe/Warsaw:20191207T193000
DTEND;TZID=Europe/Warsaw:20191207T223000
DTSTAMP:20191206T173742Z
URL:https://night4u.pl/wydarzenia/102-boyz-7-12-hydrozagadka-warszawa/
SUMMARY:102 Boyz + Kobik / 7.12 / Hydrozagadka\, Warszawa
DESCRIPTION:Polscy fani mogli ich poznać dzięki wspólnym numerom z Paluc
 h Oficjalnie\, Kobik One czy Gedziula. Grupa swoje Polskie korzenie zaznac
 za m.in. w numerach takich jak „POGBA”. Mowa o niemieckim 102 BOYZ! Ek
 ipa z zachodu przyjedzie do nas na 2 koncerty\, które odbędą się 6 gru
 dnia w poznańskim Projekt LAB oraz 7 grudnia w warszawskim Klub Hydrozaga
 dka!\n\n102 BOYZ\n+ Kobik One\n+ Czerwin TWM\n7.12.2019 g. 20:00\nWarszawa
  / Klub Hydrozagadka\n\nCZASÓWKA\n\n19:30 - DRZWI\n20:00 - CZERWIN TWM\n2
 0:40 - Kobik One\n21:30 - 102 BOYZ\n\n\nBilety: \n59 - https://winiarybook
 ings.pl/bilety/102-boyz-warszawa/ (KOLEKCJONERSKIE) \n65 - https://www.bil
 etomat.pl/koncerty/102-boyz-warszawa-warszawa-7975/\, https://www.ebilet.p
 l/muzyka/hip-hop-rap/102-boyz/\, Eventim.pl\, Ticketmaster Polska\, Ticket
 os\, Media Markt\, Empik\n70 - w dniu koncertu\n\n⚠️Szanowni Państwo.
  Prosimy o kupowanie biletów wyłącznie w autoryzowanych punktach sprzed
 aży. Poprzez kupno wejściówek od osób trzecich możecie zostać Państ
 wo oszukani.⚠️\n\n❌ Wstęp na koncert 16+ za pisemną zgodą rodzica
 . Poniżej 16 lat\, wymagana obecność pełnoletniego opiekuna. Wzór zgo
 dy: http://bit.ly/ZGODA_WB\n\n🌿W trosce o środowisko zachęcamy Was do
  pokazywania biletów na telefonie zamiast ich drukowania. \n\n102 BOYZ (J
 INX Music/Niemcy) - Trap\n\nKkuba\, Chapo\, Addikt\, Staks\, Skoob i Duke 
 to nowa niemiecko-polska rapowa ofensywa z podziemia.  Dzięki niezrównan
 emu językowi ulicznemu 102 Boyz łączy najlepsze osiągnięcia rapowe os
 tatnich lat.  Na swoim najnowszym albumie „ASOZIAL ALLSTARS 1” pokazuj
 ą z agresywną\, pozbawioną skrupułów stylistyką\, o co tak naprawdę
  chodzi w rapgrze. 102 Boyz przekonuje na żywo swoją niekończącą\, po
 rywającą energią - lubią to robić głośno i bez żadnych kompromisó
 w.\n\n🌐 https://www.facebook.com/102.BOYZ/\n\n🔈„NEW KIDS” - http
 s://www.youtube.com/watch?v=b47eKhLPMtw\n🔈„POGBA” - https://www.you
 tube.com/watch?v=1m7YXxmfJV8\n🔈„NVMND” feat. Paluch\, Kobik - https
 ://www.youtube.com/watch?v=IOAMsFe6Kpc\n__________________________________
 __________________\nWpadaj na Instagram ➡ http://bit.ly/Nasz-instagram\n
 Polub nasz profil ➡ http://bit.ly/Nasz--Facebook
ATTACH;FMTTYPE=image/jpeg:https://night4u.pl/wp-content/uploads/2019/11/31
 340_image_74272608_2560682794020148_1430580866731474944_o.jpg
CATEGORIES:mazowieckie
LOCATION:Remont: Reaktywacja Legendy\, ul. Waryńskiego 12a\, Warsaw\, 00-6
 31\, Poland
GEO:52.216877;21.016427
X-APPLE-STRUCTURED-LOCATION;VALUE=URI;X-ADDRESS=ul. Waryńskiego 12a\, Wars
 aw\, 00-631\, Poland;X-APPLE-RADIUS=100;X-TITLE=Remont: Reaktywacja Legend
 y:geo:52.216877,21.016427
END:VEVENT
BEGIN:VTIMEZONE
TZID:Europe/Warsaw
X-LIC-LOCATION:Europe/Warsaw
BEGIN:STANDARD
DTSTART:20191027T020000
TZOFFSETFROM:+0200
TZOFFSETTO:+0100
TZNAME:CET
END:STANDARD
END:VTIMEZONE
END:VCALENDAR