BEGIN:VCALENDAR
VERSION:2.0
PRODID:-//wp-events-plugin.com//7.2.3.1//EN
TZID:Europe/Warsaw
X-WR-TIMEZONE:Europe/Warsaw
BEGIN:VEVENT
UID:41867@night4u.pl
DTSTART;TZID=Europe/Warsaw:20200111T210000
DTEND;TZID=Europe/Warsaw:20200112T040000
DTSTAMP:20200111T200709Z
URL:https://night4u.pl/wydarzenia/11-01-disco-marek-czyli-kruszwil-w-milan
 o-club-backowice/
SUMMARY:11.01 DISCO MAREK \,czyli KRUSZWIL w Milano Club Baćkowice
DESCRIPTION:😊🤝W sobotę 11.01 zapraszamy Was na kolejną dawkę muzyc
 zno-tanecznych emocji.\n🎤Tym razem premierowy koncert najpopularniejsze
 go Youtubera w Polsce KRUSZWILA \,czyli DISCO MARKA - twórcy hitu ostatni
 ch czasów\,\,Zostań moją kotką''.\nByć może Kruszwil zawita  na Bać
 ki z Karłem lub swoją ekipą.\n✴fotorelacja z Klubowiczami📷\n\n\,
 🎼\,Zostań moją kotką'' www.youtube.com/watch?v=T87YqjIiz8k\n\n❓Kim
  jest Lord Kruszwil? \nℹ Jego postać wśród niektórych wzbudza kontro
 wersje. Młody chłopak od wielu lat cieszy się ogromną popularnością 
 i podbija internet swoimi 'prestiżowymi' filmikami. Tylko w serwisie YouT
 ube jego kanał śledzi ponad 2\,6 mln osób. W tym samym serwisie praktyc
 znie każdy jego materiał trafia do TOP 10 karty na czasie.
ATTACH;FMTTYPE=image/jpeg:https://night4u.pl/wp-content/uploads/2020/01/13
 1932_image_82001463_1847933232006039_1026727093343354880_n.jpg
CATEGORIES:świętokrzyskie
LOCATION:Milano Club Baćkowice\, Baćkowice 85 B\, Backowice\, 27-552\, Po
 land
GEO:50.797588;21.231727
X-APPLE-STRUCTURED-LOCATION;VALUE=URI;X-ADDRESS=Baćkowice 85 B\, Backowice
 \, 27-552\, Poland;X-APPLE-RADIUS=100;X-TITLE=Milano Club Baćkowice:geo:5
 0.797588,21.231727
END:VEVENT
BEGIN:VTIMEZONE
TZID:Europe/Warsaw
X-LIC-LOCATION:Europe/Warsaw
BEGIN:STANDARD
DTSTART:20191027T020000
TZOFFSETFROM:+0200
TZOFFSETTO:+0100
TZNAME:CET
END:STANDARD
END:VTIMEZONE
END:VCALENDAR