BEGIN:VCALENDAR
VERSION:2.0
PRODID:-//wp-events-plugin.com//7.2.3.1//EN
TZID:Europe/Warsaw
X-WR-TIMEZONE:Europe/Warsaw
BEGIN:VEVENT
UID:42585@night4u.pl
DTSTART;TZID=Europe/Warsaw:20200111T210000
DTEND;TZID=Europe/Warsaw:20200112T040000
DTSTAMP:20200109T231223Z
URL:https://night4u.pl/wydarzenia/11-01-rozpoczecie-ferii-zimowych-w-wietl
 inie3/
SUMMARY:11/01 - Rozpoczęcie FERII Zimowych w Wietlinie3!
DESCRIPTION:Ferie już wkrótce\, nareszcie będzie czas na leżenie do gó
 ry brzuchem i oczywiście IMPREZOWANIE! Specjalnie dla Was\, już na sam p
 oczątek dwutygodniowego relaksu\, szykujemy wspaniały wstęp w ten stycz
 niowy czas. \n\nBilety 10/15 zł  / start 21:00\nRezerwacje 504 614 422\nS
 cena Koncert Arena:  DJ BRAKS\n\nPROMOCJE AKTYWNE:\n► Urodziny - loża +
  bilet gratis (po wcześniejszej rezerwacji telefonicznej)\n► Wieczór P
 anieński\, Kawalerski - loża + szampan gratis\, bilety dla specjalnie pr
 zebranych gratis.\n► Kierowca (pod warunkiem przywiezienia min. 4 pasaż
 erów) - pokaż przy wejściu kluczyki samochodu - bilet gratis.\n► FREE
  TICKET - dodaj 300 znajomych *do wydarzenia\n► LOŻA VIP dla aktywnych 
 - loża\, butelka wódki + napój gratis. Losowanie w każdą sobotę prze
 d wydarzeniem\n► +30 lat.  - zamów lożę i przyjdź z przynajmniej trz
 ema osobami powyżej 30 lat - dedykowana obsługa kelnerska * regulamin u 
 obsługi\n\n\n●● ❌❌ GWARANTOWANY DARMOWY BILET! ❌❌  ●● \n
 ► FREE TICKET  dodaj 300 znajomych *do wydarzenia\n1. Zaproś min.300 os
 ób do udziału w wydarzeniu. (Jeśli zaprosisz 299\, aplikacja losująca 
 od razu Cię odrzuci!)\n2. Na tablicy wydarzenia dodaj screen z ilością 
 zaproszonych osób.\n3. Udostępnij wydarzenie >>>   https://www.facebook.
 com/events/1491854410966658/\n*lista oraz regulamin w dniu imprezy*
ATTACH;FMTTYPE=image/jpeg:https://night4u.pl/wp-content/uploads/2020/01/13
 4542_image_81398900_2473310609464617_2892096488815460352_o.jpg
CATEGORIES:podkarpackie
LOCATION:Arena Wietlin3\, Wietlin III 43\, Wietlin\, 37-543\, Poland
GEO:50.0167;22.8167
X-APPLE-STRUCTURED-LOCATION;VALUE=URI;X-ADDRESS=Wietlin III 43\, Wietlin\, 
 37-543\, Poland;X-APPLE-RADIUS=100;X-TITLE=Arena Wietlin3:geo:50.0167,22.8
 167
END:VEVENT
BEGIN:VTIMEZONE
TZID:Europe/Warsaw
X-LIC-LOCATION:Europe/Warsaw
BEGIN:STANDARD
DTSTART:20191027T020000
TZOFFSETFROM:+0200
TZOFFSETTO:+0100
TZNAME:CET
END:STANDARD
END:VTIMEZONE
END:VCALENDAR