BEGIN:VCALENDAR
VERSION:2.0
PRODID:-//wp-events-plugin.com//7.2.3.1//EN
TZID:Europe/Warsaw
X-WR-TIMEZONE:Europe/Warsaw
BEGIN:VEVENT
UID:42068@night4u.pl
DTSTART;TZID=Europe/Warsaw:20200111T200000
DTEND;TZID=Europe/Warsaw:20200112T040000
DTSTAMP:20200111T194923Z
URL:https://night4u.pl/wydarzenia/11-01-sobota-%e2%9c%aa-rompey-%e2%9c%aa-
 apogeum/
SUMMARY:11.01 (sobota) ✪ Rompey ✪ - Apogeum
DESCRIPTION:★ 11 Styczeń 2020 ★\n✪✪✪ ROMPEY ✪✪✪\n\nRezerwa
 cja loży: 505 104 990
ATTACH;FMTTYPE=image/jpeg:https://night4u.pl/wp-content/uploads/2020/01/13
 2703_image_81230035_3339447499415416_1712284713659400192_o.jpg
CATEGORIES:małopolskie
LOCATION:Klub Apogeum\, Trzyciaz\, 32-353\, Poland
GEO:50.314339;19.76557
X-APPLE-STRUCTURED-LOCATION;VALUE=URI;X-ADDRESS=Trzyciaz\, 32-353\, Poland;
 X-APPLE-RADIUS=100;X-TITLE=Klub Apogeum:geo:50.314339,19.76557
END:VEVENT
BEGIN:VTIMEZONE
TZID:Europe/Warsaw
X-LIC-LOCATION:Europe/Warsaw
BEGIN:STANDARD
DTSTART:20191027T020000
TZOFFSETFROM:+0200
TZOFFSETTO:+0100
TZNAME:CET
END:STANDARD
END:VTIMEZONE
END:VCALENDAR