BEGIN:VCALENDAR
VERSION:2.0
PRODID:-//wp-events-plugin.com//7.2.3.1//EN
TZID:Europe/Warsaw
X-WR-TIMEZONE:Europe/Warsaw
BEGIN:VEVENT
UID:14492@night4u.pl
DTSTART;TZID=Europe/Warsaw:20190511T210000
DTEND;TZID=Europe/Warsaw:20190512T050000
DTSTAMP:20190430T144337Z
URL:https://night4u.pl/wydarzenia/11-05-projekt-kawalerski/
SUMMARY:11.05 - Projekt kawalerski
DESCRIPTION:11.05 - PROJEKT KAWALERSKI\n\nZapraszamy w sobotę do Bajki na 
 naszą cykliczną imprezę: projekt kawalerski. Seksowne tancerki z grupy 
 Magic Boys zawładną Bajkową sceną. Emocje sięgną sufitu! Kierunek --
 > Szeroka 19.\n\nImprezę nakręci nasz zawodowiec: DJ ROKETS\n\nWstęp: 1
 0 zł od 21:00\, selekcja + 18\n\nLajkujcie nas i odwiedzajcie na:\nwww.ba
 jkadiscoclub.pl\nwww.facebook.com/bajkadiscoclubtorun\n\nBAJKA DISCO CLUB\
 nToruń\, Ul. Szeroka 19.
ATTACH;FMTTYPE=image/jpeg:https://night4u.pl/wp-content/uploads/2019/04/36
 060_image_58842488_1051256825060196_5363083215353413632_o.jpg
CATEGORIES:kujawsko-pomorskie
LOCATION:BAJKA DISCO CLUB Toruń\, Szeroka 19\, Torun\, 87-100\, Poland
GEO:53.01047;18.60732
X-APPLE-STRUCTURED-LOCATION;VALUE=URI;X-ADDRESS=Szeroka 19\, Torun\, 87-100
 \, Poland;X-APPLE-RADIUS=100;X-TITLE=BAJKA DISCO CLUB Toruń:geo:53.01047,
 18.60732
END:VEVENT
BEGIN:VTIMEZONE
TZID:Europe/Warsaw
X-LIC-LOCATION:Europe/Warsaw
BEGIN:DAYLIGHT
DTSTART:20190331T030000
TZOFFSETFROM:+0100
TZOFFSETTO:+0200
TZNAME:CEST
END:DAYLIGHT
END:VTIMEZONE
END:VCALENDAR