BEGIN:VCALENDAR
VERSION:2.0
PRODID:-//wp-events-plugin.com//7.2.3.1//EN
TZID:Europe/Warsaw
X-WR-TIMEZONE:Europe/Warsaw
BEGIN:VEVENT
UID:30713@night4u.pl
DTSTART;TZID=Europe/Warsaw:20191011T210000
DTEND;TZID=Europe/Warsaw:20191012T050000
DTSTAMP:20191007T191720Z
URL:https://night4u.pl/wydarzenia/11-10-l%e2%97%8ecal-p%e2%97%8ewer-lista-
 free/
SUMMARY:11/10 L◎CAL P◎WER [*lista free]
DESCRIPTION:Kolejny powerek\, czyli solidne granie lokalnej ekipy\n\n◎ Ne
 cromance\n◎ Chinese Cookies\n◎ Semi Cosco\n\n✈ lista fb FREE do 22:3
 0 / pozostali 10zł
ATTACH;FMTTYPE=image/jpeg:https://night4u.pl/wp-content/uploads/2019/10/70
 972_image_71840607_1259976130854408_7292867847431127040_o.jpg
CATEGORIES:lubuskie
LOCATION:O B I E K T\, Kazimierza Wielkiego 21\, Zielona Góra\, 65-001\, P
 oland
GEO:51.944503;15.513146
X-APPLE-STRUCTURED-LOCATION;VALUE=URI;X-ADDRESS=Kazimierza Wielkiego 21\, Z
 ielona Góra\, 65-001\, Poland;X-APPLE-RADIUS=100;X-TITLE=O B I E K T:geo:
 51.944503,15.513146
END:VEVENT
BEGIN:VTIMEZONE
TZID:Europe/Warsaw
X-LIC-LOCATION:Europe/Warsaw
BEGIN:DAYLIGHT
DTSTART:20190331T030000
TZOFFSETFROM:+0100
TZOFFSETTO:+0200
TZNAME:CEST
END:DAYLIGHT
END:VTIMEZONE
END:VCALENDAR