BEGIN:VCALENDAR
VERSION:2.0
PRODID:-//wp-events-plugin.com//7.2.3.1//EN
TZID:Europe/Warsaw
X-WR-TIMEZONE:Europe/Warsaw
BEGIN:VEVENT
UID:21258@night4u.pl
DTSTART;TZID=Europe/Warsaw:20190713T213000
DTEND;TZID=Europe/Warsaw:20190714T050000
DTSTAMP:20190704T192422Z
URL:https://night4u.pl/wydarzenia/12-07-13-07-1-urodziny-tkacka-music-club
 /
SUMMARY:12/07 & 13/07 / 1 Urodziny Tkacka Music Club
DESCRIPTION:******* ENGLISH DESCRIPTION BELOW *******\n\nTak! ?\nTkackiej w
 ybił już dokładnie pierwszy rok działalności.\nDokładnie 13 lipca\, 
 Tkacka Music Club przejęła imprezową stronę Gdańska.\nDziękujemy wsz
 ystkim naszym gościom\, którzy sprawili\, że Tkacka jest tym czym jest 
 dziś - czyli najpopularniejszym Gdańskim klubem! ???\n\nZapraszamy do ws
 pólnego świętowania w najzacniejszym gronie ❤\n\nZagrają dla Was:\n\
 nFRIDAY:\nDrey Chill\nFlamingo Cartel/WARSON\n\nSATURDAY: \nK-Leah (VOCAL)
 \nDJ 69Beats\nDj BezKsywy\n\n\n\n\nRezerwacje:\n +48 726 888 333 / kontakt
 @tkackaclub.pl / fb msg / whatsup\n\nObowiązuje selekcja.\nLista FB - Fre
 e do 23 (z wejściem na resztę nocy)\nWstęp do klubu - 10 / 20 / 30 PLN\
 nRezerwacje bezpłatnie do godziny 24:00\n\n________________________\nTKAC
 KA MUSIC CLUB\nul. Tkacka 9\, 80-836\, Gdańsk\nwww.tkackaclub.pl #tkackac
 lub #tkackamusicclub #tkacka\n\n\nWe play your favorite songs\, which you 
 do not know yet from URBAN music - house\, hip-hop\, remixes of the best s
 ongs played in clubs all around the world.\n\nThe Tkacka Music Club is the
  highest clubbing quality in the Gdańsk Old Town.\n\n\nReservations:\n  +
 48 726 888 333 / kontakt@tkackaclub.pl / fb msg / whatsup\n\n\n\n\n\n\nSel
 ection\nFB LIST - Free do 23 (z wejściem na resztę nocy)\nFee - 10 / 20 
 / 30 PLN\nReservation free till 24:00\n\n________________________\nTKACKA 
 MUSIC CLUB\nul. Tkacka 9\, 80-836\, Gdańsk\nwww.tkackaclub.pl #tkackaclub
  #tkackamusicclub #tkacka
ATTACH;FMTTYPE=image/jpeg:https://night4u.pl/wp-content/uploads/2019/07/50
 689_image_66265947_418895695396708_3233053786163380224_o.jpg
CATEGORIES:pomorskie
LOCATION:Tkacka Music Club Gdańsk\, ul. Tkacka 9\, Gdansk\, 80-836\, Polan
 d
GEO:54.350041;18.64889
X-APPLE-STRUCTURED-LOCATION;VALUE=URI;X-ADDRESS=ul. Tkacka 9\, Gdansk\, 80-
 836\, Poland;X-APPLE-RADIUS=100;X-TITLE=Tkacka Music Club Gdańsk:geo:54.3
 50041,18.64889
END:VEVENT
BEGIN:VTIMEZONE
TZID:Europe/Warsaw
X-LIC-LOCATION:Europe/Warsaw
BEGIN:DAYLIGHT
DTSTART:20190331T030000
TZOFFSETFROM:+0100
TZOFFSETTO:+0200
TZNAME:CEST
END:DAYLIGHT
END:VTIMEZONE
END:VCALENDAR