BEGIN:VCALENDAR
VERSION:2.0
PRODID:-//wp-events-plugin.com//7.2.3.1//EN
TZID:Europe/Warsaw
X-WR-TIMEZONE:Europe/Warsaw
BEGIN:VEVENT
UID:48401@night4u.pl
DTSTART;TZID=Europe/Warsaw:20200407T200000
DTEND;TZID=Europe/Warsaw:20200407T235900
DTSTAMP:20200405T170650Z
URL:https://night4u.pl/wydarzenia/12-urodziny-hareda-blues-session/
SUMMARY:12 urodziny Harenda Blues Session
DESCRIPTION:IMPREZA PRZESUNIĘTA NA TERMIN PÓŹNIEJSZY\nWłaśnie mija 12 
 lat od powstania najlepszego i najdłużej działającego blues session w 
 Warszawie.\nPrzez scenę przewinęło się tysiące muzyków z Europy\, Am
 eryki Północnej i Południowej\, Australii\, Azji.\nW każdy wtorek doś
 wiadczeni\, zwykle zawodowi  muzycy grają spontanicznie standardy lub utw
 ory improwizowane w oscylujące wokół bluesa\, lecz czerpiące z jazzu\,
  rocka\, funk\, ethno czy muzyki elektronicznej.\nPierwszy i trzeci wtorek
  miesiąca są dedykowane akustycznym instrumentom\, w pozostałe wtorki m
 iesiąca brzmią dźwięki mocniejsze - elektryczne.\nZapraszamy wspaniał
 ą\, wymagającą publiczność\, która zawsze dodaje skrzydeł elicie wa
 rszawskich muzyków.\nWstęp to symboliczne 5zł (muzycy wchodzą gratis)\
 n\nBlues session od samego początku prowadzi Bartek Łęczycki - wielokro
 tnie uznawany w ankietach pism muzycznych za najlepszego harmonijkarza w P
 olsce. Więcej na www.bleczycki.com
ATTACH;FMTTYPE=image/jpeg:https://night4u.pl/wp-content/uploads/2020/02/16
 5329_image_86975822_2853992124621481_6187758567303413760_o.jpg
CATEGORIES:mazowieckie
LOCATION:Klub Harenda\, Krakowskie Przedmieście 4\, Srodmiescie\, 00-325\,
  Poland
GEO:52.238783;21.018876
X-APPLE-STRUCTURED-LOCATION;VALUE=URI;X-ADDRESS=Krakowskie Przedmieście 4\
 , Srodmiescie\, 00-325\, Poland;X-APPLE-RADIUS=100;X-TITLE=Klub Harenda:ge
 o:52.238783,21.018876
END:VEVENT
BEGIN:VTIMEZONE
TZID:Europe/Warsaw
X-LIC-LOCATION:Europe/Warsaw
BEGIN:DAYLIGHT
DTSTART:20200329T030000
TZOFFSETFROM:+0100
TZOFFSETTO:+0200
TZNAME:CEST
END:DAYLIGHT
END:VTIMEZONE
END:VCALENDAR