BEGIN:VCALENDAR
VERSION:2.0
PRODID:-//wp-events-plugin.com//7.2.3.1//EN
TZID:Europe/Warsaw
X-WR-TIMEZONE:Europe/Warsaw
BEGIN:VEVENT
UID:21926@night4u.pl
DTSTART;TZID=Europe/Warsaw:20190713T203000
DTEND;TZID=Europe/Warsaw:20190714T033000
DTSTAMP:20190709T224719Z
URL:https://night4u.pl/wydarzenia/13-07-sobota-koncert-effect-dos-gringos/
SUMMARY:13.07 Sobota / Koncert Effect / Dos Gringos
DESCRIPTION:13.07 SOBOTA / KONCERT EFFECT / DOS GRINGOS\n\nKolejna efektown
 a impreza w Dos Gringos. Już 13.06.2019 w sobotę zagra dla was na żywo 
 koncert zespół EFFECT. Największe hity tego zespołu: "PRAWDA"\, "BANAN
 OWE SKÓRY"\, "KSIĄŻĘ". ?Oczywiście koncert odbędzie się na naszej s
 ali letniej\, gdzie panuje nieziemski klimat oraz letni klimat. Spróbujci
 e naszych przysmaków z GRILLA! ? Widzimy się już niebawem\, pamiętajci
 e o zapraszaniu znajomych oraz udostępnianiu plakatów aby wziąć udzia
 ł w losowaniu konkursowego bonu lub wejściówki.\nZapraszamy!\n\nREZYDEN
 CI:\n\nDJ JAY \n\nStart: 20:30 ?\nRezerwacje loży/pokoi VIP: 695 299 555 
 ☎️\nRezerwacje transportu: 506190945 lub 535116019 ?\nWiek: 16+ ⛔️
 \nMiejsce: Oleksów 98 ?
ATTACH;FMTTYPE=image/jpeg:https://night4u.pl/wp-content/uploads/2019/07/51
 949_image_66331514_2298422740246882_4242792243741589504_o.jpg
CATEGORIES:mazowieckie
LOCATION:Klub Dos Gringos\, Oleksów 98\, Oleksów\, 26-920\, Poland
GEO:51.49077;21.80043
X-APPLE-STRUCTURED-LOCATION;VALUE=URI;X-ADDRESS=Oleksów 98\, Oleksów\, 26
 -920\, Poland;X-APPLE-RADIUS=100;X-TITLE=Klub Dos Gringos:geo:51.49077,21.
 80043
END:VEVENT
BEGIN:VTIMEZONE
TZID:Europe/Warsaw
X-LIC-LOCATION:Europe/Warsaw
BEGIN:DAYLIGHT
DTSTART:20190331T030000
TZOFFSETFROM:+0100
TZOFFSETTO:+0200
TZNAME:CEST
END:DAYLIGHT
END:VTIMEZONE
END:VCALENDAR