BEGIN:VCALENDAR
VERSION:2.0
PRODID:-//wp-events-plugin.com//7.2.3.1//EN
TZID:Europe/Warsaw
X-WR-TIMEZONE:Europe/Warsaw
BEGIN:VEVENT
UID:26233@night4u.pl
DTSTART;TZID=Europe/Warsaw:20190913T210000
DTEND;TZID=Europe/Warsaw:20190914T050000
DTSTAMP:20190903T190840Z
URL:https://night4u.pl/wydarzenia/13-09-wrzesniowa-najebajka-x-lista-fb-do
 -2300-wstep-free/
SUMMARY:13.09 - Wrześniowa najeBAJKA x Lista fb do 23:00 wstęp free
DESCRIPTION:13.09 - WRZEŚNIOWA NAJEBAJKA x LISTA FB DO 23:00 WSTĘP FREE\n
 \nZapraszamy na wrześniową najeBAJKĘ do Bajki :D. Czeka na Was zimna w
 ódeczka STOCK przez całą noc w zawrotnej cenie 5 PLN. Dodatkowo każda 
 osoba potwierdzająca udział w wydarzeniu do godziny 23:00 może wejść 
 do nas za darmo! Kierunek oczywiście --> Piłsudskiego 34.\n\nImprezę na
 kręci nasz zawodowiec:\n\nsala główna: DJ ZAK RIS\n\nStart: 21:00\nWst
 ęp: 10 ZŁ\n\nLajkujcie nas i odwiedzajcie na:\nwww.facebook.com/bajkadis
 coclubrzeszow\nwww.bajkadiscoclub.pl\n\nBAJKA DISCO CLUB\nRzeszów\, Ul. P
 iłsudskiego 34.
ATTACH;FMTTYPE=image/jpeg:https://night4u.pl/wp-content/uploads/2019/09/61
 277_image_69485292_2408454275908413_6230840108644302848_o.jpg
CATEGORIES:podkarpackie
LOCATION:BAJKA DISCO CLUB Rzeszów\, Ul. Piłsudskiego 34\, Rzeszów\, 35-0
 01\, Poland
GEO:50.041268;22.003453
X-APPLE-STRUCTURED-LOCATION;VALUE=URI;X-ADDRESS=Ul. Piłsudskiego 34\, Rzes
 zów\, 35-001\, Poland;X-APPLE-RADIUS=100;X-TITLE=BAJKA DISCO CLUB Rzeszó
 w:geo:50.041268,22.003453
END:VEVENT
BEGIN:VTIMEZONE
TZID:Europe/Warsaw
X-LIC-LOCATION:Europe/Warsaw
BEGIN:DAYLIGHT
DTSTART:20190331T030000
TZOFFSETFROM:+0100
TZOFFSETTO:+0200
TZNAME:CEST
END:DAYLIGHT
END:VTIMEZONE
END:VCALENDAR