BEGIN:VCALENDAR
VERSION:2.0
PRODID:-//wp-events-plugin.com//7.2.3.1//EN
TZID:Europe/Warsaw
X-WR-TIMEZONE:Europe/Warsaw
BEGIN:VEVENT
UID:50138@night4u.pl
DTSTART;TZID=Europe/Warsaw:20200313T220000
DTEND;TZID=Europe/Warsaw:20200314T060000
DTSTAMP:20200312T004348Z
URL:https://night4u.pl/wydarzenia/13-tego-piatek-i-3-disco-black-diamond-c
 lub-kolo-fortuny/
SUMMARY:13-tego Piątek / I &lt\;3 Disco / Black Diamond Club / Koło Fortu
 ny
DESCRIPTION:Lista Fb wstęp wolny do 23:00 / Koło Fortuny \n\nPiątek 13-t
 ego! Wszytko może się zdarzyć\, może właśnie tego dnia poznasz swoj
 ą drugą połówkę lub wygrasz 1000 PLN w naszym kole fortuny! Szczerze\
 , to nie wiem czego życzyć Wam bardziej! 😁 Jedno jest pewne\, będzie
  się działo! A nasze barmanki zmienią się w CZARNE KOCIAKI i przygotuj
 ą dla Was najlepsze drinki i najmocniejsze shoty!\n\nKażdy dzisiaj wygra
 ć może!😁 \nSpróbujcie szczęścia w naszym piątkowym kole fortuny! 
 Do wygrania nawet 1000 pln do wydania na barze. \nPromocja obowiązuje do 
 23:00.  \nDla Pań udział w loterii jest darmowy\, a Panowie płacą za 1
  los - 10 pln .\n\nTo będzie Twoja najlepsza piątkowa impreza!😁\n\nSt
 art : 22.00/ obowiązuje selekcja / Klub do osób pełnoletnich. \nKarty V
 IP wstęp wolny do 24:00\n\n✅ Instagram⤵\nblackdiamond_bialystok\n\n
 ✅ Nasz hashtag: #spotkajmysięwblacku\nDo zobaczenia!
ATTACH;FMTTYPE=image/jpeg:https://night4u.pl/wp-content/uploads/2020/03/17
 5182_image_89625007_2992128147512238_1172720990308794368_o.jpg
CATEGORIES:podlaskie
LOCATION:Black Diamond Club\, Piękna 2\, Białystok\, 15-282\, Poland
GEO:53.128851;23.153415
X-APPLE-STRUCTURED-LOCATION;VALUE=URI;X-ADDRESS=Piękna 2\, Białystok\, 15
 -282\, Poland;X-APPLE-RADIUS=100;X-TITLE=Black Diamond Club:geo:53.128851,
 23.153415
END:VEVENT
BEGIN:VTIMEZONE
TZID:Europe/Warsaw
X-LIC-LOCATION:Europe/Warsaw
BEGIN:STANDARD
DTSTART:20191027T020000
TZOFFSETFROM:+0200
TZOFFSETTO:+0100
TZNAME:CET
END:STANDARD
END:VTIMEZONE
END:VCALENDAR