BEGIN:VCALENDAR
VERSION:2.0
PRODID:-//wp-events-plugin.com//7.2.3.1//EN
TZID:Europe/Warsaw
X-WR-TIMEZONE:Europe/Warsaw
BEGIN:VEVENT
UID:49495@night4u.pl
DTSTART;TZID=Europe/Warsaw:20200314T200000
DTEND;TZID=Europe/Warsaw:20200315T030000
DTSTAMP:20200314T005758Z
URL:https://night4u.pl/wydarzenia/14-03-mattheo-da-funk-one-stage/
SUMMARY:14.03/ Mattheo da Funk / One Stage
DESCRIPTION:A czy ty masz już pomysł na kolejny marcowy\, sobotni wieczó
 r ? \nJeżeli dobra muzyka\, Jack Daniel's i doborowe towarzystwo to dla C
 iebie dobre połączenie to koniecznie sprawdź co będzie się dziać 14.
 03 pod rzeszowskim Rynkiem ! \nW te sobotę przygotowaliśmy dla Was kolej
 ną z naszego stałego cyklu imprez\, tym razem gościem specjalnym będzi
 e MATTHEO DA FUNK.\n\nSupport: Michael Pow\n\n➡️Panowie od 21:00 wstę
 p 10 pln \n➡️ Lista FB: Wstęp wolny do 23:00 (listę zamykamy 14.03 o
  19:00) \n➡️ Cały wieczór Panie wstęp wolny \n➡️ Degustacja Jac
 k Danel's \n➡️ Przy wejściu obowiązuje selekcja\n\nDołącz do wydar
 zenia zaproś znajomych i baw się razem z nami pod rzeszowskim Rynkiem !
ATTACH;FMTTYPE=image/jpeg:https://night4u.pl/wp-content/uploads/2020/03/17
 1790_image_89290180_1702946546513722_5231202610987401216_o.jpg
CATEGORIES:podkarpackie
LOCATION:Pewex Pub Rzeszów\, Rynek 18\, Rzeszów\, 35-064\, Poland
GEO:50.037653;22.005345
X-APPLE-STRUCTURED-LOCATION;VALUE=URI;X-ADDRESS=Rynek 18\, Rzeszów\, 35-06
 4\, Poland;X-APPLE-RADIUS=100;X-TITLE=Pewex Pub Rzeszów:geo:50.037653,22.
 005345
END:VEVENT
BEGIN:VTIMEZONE
TZID:Europe/Warsaw
X-LIC-LOCATION:Europe/Warsaw
BEGIN:STANDARD
DTSTART:20191027T020000
TZOFFSETFROM:+0200
TZOFFSETTO:+0100
TZNAME:CET
END:STANDARD
END:VTIMEZONE
END:VCALENDAR